BEGIN:VCALENDAR
VERSION:2.0
PRODID:-//Midtown Tampa - ECPv6.15.20//NONSGML v1.0//EN
CALSCALE:GREGORIAN
METHOD:PUBLISH
X-WR-CALNAME:Midtown Tampa
X-ORIGINAL-URL:https://midtowntampa.com
X-WR-CALDESC:Events for Midtown Tampa
REFRESH-INTERVAL;VALUE=DURATION:PT1H
X-Robots-Tag:noindex
X-PUBLISHED-TTL:PT1H
BEGIN:VTIMEZONE
TZID:America/New_York
BEGIN:DAYLIGHT
TZOFFSETFROM:-0500
TZOFFSETTO:-0400
TZNAME:EDT
DTSTART:20250309T070000
END:DAYLIGHT
BEGIN:STANDARD
TZOFFSETFROM:-0400
TZOFFSETTO:-0500
TZNAME:EST
DTSTART:20251102T060000
END:STANDARD
BEGIN:DAYLIGHT
TZOFFSETFROM:-0500
TZOFFSETTO:-0400
TZNAME:EDT
DTSTART:20260308T070000
END:DAYLIGHT
BEGIN:STANDARD
TZOFFSETFROM:-0400
TZOFFSETTO:-0500
TZNAME:EST
DTSTART:20261101T060000
END:STANDARD
BEGIN:DAYLIGHT
TZOFFSETFROM:-0500
TZOFFSETTO:-0400
TZNAME:EDT
DTSTART:20270314T070000
END:DAYLIGHT
BEGIN:STANDARD
TZOFFSETFROM:-0400
TZOFFSETTO:-0500
TZNAME:EST
DTSTART:20271107T060000
END:STANDARD
END:VTIMEZONE
BEGIN:VEVENT
DTSTART;TZID=America/New_York:20260608T093000
DTEND;TZID=America/New_York:20260608T103000
DTSTAMP:20260422T223834
CREATED:20260409T000540Z
LAST-MODIFIED:20260416T180702Z
UID:10000554-1780911000-1780914600@midtowntampa.com
SUMMARY:Fit4Mom Mondays
DESCRIPTION:Mondays are for the moms! Meet us in the middle for a variety of fitness classes from the nation’s leading prenatal and postnatal fitness program. From high-intensity cardio classes to total-body strength training sessions\, each class was created for moms at every stage of motherhood. \nFor more information or to sign up\, visit tampabay.fit4mom.com/midtown.
URL:https://midtowntampa.com/event/fit4mom-mondays-4/2026-06-08/
ATTACH;FMTTYPE=image/jpeg:https://midtowntampa.com/wp-content/uploads/2026/04/fitformoms.jpg
END:VEVENT
BEGIN:VEVENT
DTSTART;TZID=America/New_York:20260604T180000
DTEND;TZID=America/New_York:20260604T220000
DTSTAMP:20260422T223834
CREATED:20260409T000538Z
LAST-MODIFIED:20260416T194901Z
UID:10000868-1780596000-1780610400@midtowntampa.com
SUMMARY:Sunset Market
DESCRIPTION:Makers + Cocktails + Live Music \nEnd your day with LIVE music\, cocktails and over 40 local vendors including artists\, jewelry\, and makers from the bay area! Join us at the The Sunset Market occurs 1st Thursday of each month. Local vendors can apply here.
URL:https://midtowntampa.com/event/sunset-market/2026-06-04/
ATTACH;FMTTYPE=image/jpeg:https://midtowntampa.com/wp-content/uploads/2026/04/sunset.jpg
END:VEVENT
BEGIN:VEVENT
DTSTART;TZID=America/New_York:20260604T100000
DTEND;TZID=America/New_York:20260604T110000
DTSTAMP:20260422T223834
CREATED:20260409T001840Z
LAST-MODIFIED:20260409T002314Z
UID:10000294-1780567200-1780570800@midtowntampa.com
SUMMARY:Stroller Sculpt Thursdays
DESCRIPTION:Mommy & Me fitness classes for all levels! \nCalling all moms! Certified pre/postnatal fitness instructor Sam Freed\, is hosting an energizing full-body\, low-impact workout that focuses on strength\, mobility\, and breathwork. This class is safe for all levels and will recur every Thursday.  Strollers and babies are welcome! \nRegister Now
URL:https://midtowntampa.com/event/stroller-sculpt-thursdays-6/2026-06-04/
ATTACH;FMTTYPE=image/jpeg:https://midtowntampa.com/wp-content/uploads/2025/11/Stroller-Sculpt-4-4-24-83-scaled-e1715119243345-1024x666-1.jpg
END:VEVENT
BEGIN:VEVENT
DTSTART;TZID=America/New_York:20260603T183000
DTEND;TZID=America/New_York:20260603T193000
DTSTAMP:20260422T223834
CREATED:20260422T165336Z
LAST-MODIFIED:20260422T165337Z
UID:10000034-1780511400-1780515000@midtowntampa.com
SUMMARY:Yoga in The Commons
DESCRIPTION:Namaste by the Bay comes to Midtown Tampa! Grab your mat and join Alex for an all-levels power flow class on the turf in the beautiful outdoor Midtown Commons. We will focus on building strength and mobility through mindful movement while connecting with our breath (and community!).\nEvery Wednesday\, from 6:30PM to 7:30PM
URL:https://midtowntampa.com/event/yoga-in-the-commons-6-2/2026-06-03/
ATTACH;FMTTYPE=image/jpeg:https://midtowntampa.com/wp-content/uploads/2023/07/mt-yoga-e1726060249960.jpeg
END:VEVENT
BEGIN:VEVENT
DTSTART;TZID=America/New_York:20260601T093000
DTEND;TZID=America/New_York:20260601T103000
DTSTAMP:20260422T223834
CREATED:20260409T000540Z
LAST-MODIFIED:20260416T180702Z
UID:10000553-1780306200-1780309800@midtowntampa.com
SUMMARY:Fit4Mom Mondays
DESCRIPTION:Mondays are for the moms! Meet us in the middle for a variety of fitness classes from the nation’s leading prenatal and postnatal fitness program. From high-intensity cardio classes to total-body strength training sessions\, each class was created for moms at every stage of motherhood. \nFor more information or to sign up\, visit tampabay.fit4mom.com/midtown.
URL:https://midtowntampa.com/event/fit4mom-mondays-4/2026-06-01/
ATTACH;FMTTYPE=image/jpeg:https://midtowntampa.com/wp-content/uploads/2026/04/fitformoms.jpg
END:VEVENT
BEGIN:VEVENT
DTSTART;TZID=America/New_York:20260528T100000
DTEND;TZID=America/New_York:20260528T110000
DTSTAMP:20260422T223834
CREATED:20260409T001840Z
LAST-MODIFIED:20260409T002314Z
UID:10000293-1779962400-1779966000@midtowntampa.com
SUMMARY:Stroller Sculpt Thursdays
DESCRIPTION:Mommy & Me fitness classes for all levels! \nCalling all moms! Certified pre/postnatal fitness instructor Sam Freed\, is hosting an energizing full-body\, low-impact workout that focuses on strength\, mobility\, and breathwork. This class is safe for all levels and will recur every Thursday.  Strollers and babies are welcome! \nRegister Now
URL:https://midtowntampa.com/event/stroller-sculpt-thursdays-6/2026-05-28/
ATTACH;FMTTYPE=image/jpeg:https://midtowntampa.com/wp-content/uploads/2025/11/Stroller-Sculpt-4-4-24-83-scaled-e1715119243345-1024x666-1.jpg
END:VEVENT
BEGIN:VEVENT
DTSTART;TZID=America/New_York:20260527T183000
DTEND;TZID=America/New_York:20260527T193000
DTSTAMP:20260422T223834
CREATED:20260422T165336Z
LAST-MODIFIED:20260422T165337Z
UID:10000033-1779906600-1779910200@midtowntampa.com
SUMMARY:Yoga in The Commons
DESCRIPTION:Namaste by the Bay comes to Midtown Tampa! Grab your mat and join Alex for an all-levels power flow class on the turf in the beautiful outdoor Midtown Commons. We will focus on building strength and mobility through mindful movement while connecting with our breath (and community!).\nEvery Wednesday\, from 6:30PM to 7:30PM
URL:https://midtowntampa.com/event/yoga-in-the-commons-6-2/2026-05-27/
ATTACH;FMTTYPE=image/jpeg:https://midtowntampa.com/wp-content/uploads/2023/07/mt-yoga-e1726060249960.jpeg
END:VEVENT
BEGIN:VEVENT
DTSTART;TZID=America/New_York:20260525T093000
DTEND;TZID=America/New_York:20260525T103000
DTSTAMP:20260422T223834
CREATED:20260409T000540Z
LAST-MODIFIED:20260416T180702Z
UID:10000552-1779701400-1779705000@midtowntampa.com
SUMMARY:Fit4Mom Mondays
DESCRIPTION:Mondays are for the moms! Meet us in the middle for a variety of fitness classes from the nation’s leading prenatal and postnatal fitness program. From high-intensity cardio classes to total-body strength training sessions\, each class was created for moms at every stage of motherhood. \nFor more information or to sign up\, visit tampabay.fit4mom.com/midtown.
URL:https://midtowntampa.com/event/fit4mom-mondays-4/2026-05-25/
ATTACH;FMTTYPE=image/jpeg:https://midtowntampa.com/wp-content/uploads/2026/04/fitformoms.jpg
END:VEVENT
BEGIN:VEVENT
DTSTART;TZID=America/New_York:20260523T100000
DTEND;TZID=America/New_York:20260523T150000
DTSTAMP:20260422T223834
CREATED:20260409T000539Z
LAST-MODIFIED:20260416T180922Z
UID:10000809-1779530400-1779548400@midtowntampa.com
SUMMARY:Sunshine Market
DESCRIPTION:Start your day with LIVE music\, cocktails and over 40 local vendors including artists\, jewelry\, and makers from the bay area! Join us at the Sunshine Market\, every 4th Saturday of each month. Local vendors can apply here.
URL:https://midtowntampa.com/event/sunshine-market-2/2026-05-23/
ATTACH;FMTTYPE=image/jpeg:https://midtowntampa.com/wp-content/uploads/2026/04/sunshine.jpg
END:VEVENT
BEGIN:VEVENT
DTSTART;TZID=America/New_York:20260521T100000
DTEND;TZID=America/New_York:20260521T110000
DTSTAMP:20260422T223834
CREATED:20260409T001840Z
LAST-MODIFIED:20260409T002314Z
UID:10000292-1779357600-1779361200@midtowntampa.com
SUMMARY:Stroller Sculpt Thursdays
DESCRIPTION:Mommy & Me fitness classes for all levels! \nCalling all moms! Certified pre/postnatal fitness instructor Sam Freed\, is hosting an energizing full-body\, low-impact workout that focuses on strength\, mobility\, and breathwork. This class is safe for all levels and will recur every Thursday.  Strollers and babies are welcome! \nRegister Now
URL:https://midtowntampa.com/event/stroller-sculpt-thursdays-6/2026-05-21/
ATTACH;FMTTYPE=image/jpeg:https://midtowntampa.com/wp-content/uploads/2025/11/Stroller-Sculpt-4-4-24-83-scaled-e1715119243345-1024x666-1.jpg
END:VEVENT
BEGIN:VEVENT
DTSTART;TZID=America/New_York:20260520T183000
DTEND;TZID=America/New_York:20260520T193000
DTSTAMP:20260422T223834
CREATED:20260422T165336Z
LAST-MODIFIED:20260422T165337Z
UID:10000032-1779301800-1779305400@midtowntampa.com
SUMMARY:Yoga in The Commons
DESCRIPTION:Namaste by the Bay comes to Midtown Tampa! Grab your mat and join Alex for an all-levels power flow class on the turf in the beautiful outdoor Midtown Commons. We will focus on building strength and mobility through mindful movement while connecting with our breath (and community!).\nEvery Wednesday\, from 6:30PM to 7:30PM
URL:https://midtowntampa.com/event/yoga-in-the-commons-6-2/2026-05-20/
ATTACH;FMTTYPE=image/jpeg:https://midtowntampa.com/wp-content/uploads/2023/07/mt-yoga-e1726060249960.jpeg
END:VEVENT
BEGIN:VEVENT
DTSTART;TZID=America/New_York:20260518T093000
DTEND;TZID=America/New_York:20260518T103000
DTSTAMP:20260422T223834
CREATED:20260409T000540Z
LAST-MODIFIED:20260416T180702Z
UID:10000551-1779096600-1779100200@midtowntampa.com
SUMMARY:Fit4Mom Mondays
DESCRIPTION:Mondays are for the moms! Meet us in the middle for a variety of fitness classes from the nation’s leading prenatal and postnatal fitness program. From high-intensity cardio classes to total-body strength training sessions\, each class was created for moms at every stage of motherhood. \nFor more information or to sign up\, visit tampabay.fit4mom.com/midtown.
URL:https://midtowntampa.com/event/fit4mom-mondays-4/2026-05-18/
ATTACH;FMTTYPE=image/jpeg:https://midtowntampa.com/wp-content/uploads/2026/04/fitformoms.jpg
END:VEVENT
BEGIN:VEVENT
DTSTART;TZID=America/New_York:20260514T100000
DTEND;TZID=America/New_York:20260514T110000
DTSTAMP:20260422T223834
CREATED:20260409T001840Z
LAST-MODIFIED:20260409T002314Z
UID:10000291-1778752800-1778756400@midtowntampa.com
SUMMARY:Stroller Sculpt Thursdays
DESCRIPTION:Mommy & Me fitness classes for all levels! \nCalling all moms! Certified pre/postnatal fitness instructor Sam Freed\, is hosting an energizing full-body\, low-impact workout that focuses on strength\, mobility\, and breathwork. This class is safe for all levels and will recur every Thursday.  Strollers and babies are welcome! \nRegister Now
URL:https://midtowntampa.com/event/stroller-sculpt-thursdays-6/2026-05-14/
ATTACH;FMTTYPE=image/jpeg:https://midtowntampa.com/wp-content/uploads/2025/11/Stroller-Sculpt-4-4-24-83-scaled-e1715119243345-1024x666-1.jpg
END:VEVENT
BEGIN:VEVENT
DTSTART;TZID=America/New_York:20260513T183000
DTEND;TZID=America/New_York:20260513T193000
DTSTAMP:20260422T223834
CREATED:20260422T165336Z
LAST-MODIFIED:20260422T165337Z
UID:10000031-1778697000-1778700600@midtowntampa.com
SUMMARY:Yoga in The Commons
DESCRIPTION:Namaste by the Bay comes to Midtown Tampa! Grab your mat and join Alex for an all-levels power flow class on the turf in the beautiful outdoor Midtown Commons. We will focus on building strength and mobility through mindful movement while connecting with our breath (and community!).\nEvery Wednesday\, from 6:30PM to 7:30PM
URL:https://midtowntampa.com/event/yoga-in-the-commons-6-2/2026-05-13/
ATTACH;FMTTYPE=image/jpeg:https://midtowntampa.com/wp-content/uploads/2023/07/mt-yoga-e1726060249960.jpeg
END:VEVENT
BEGIN:VEVENT
DTSTART;TZID=America/New_York:20260511T093000
DTEND;TZID=America/New_York:20260511T103000
DTSTAMP:20260422T223834
CREATED:20260409T000540Z
LAST-MODIFIED:20260416T180702Z
UID:10000550-1778491800-1778495400@midtowntampa.com
SUMMARY:Fit4Mom Mondays
DESCRIPTION:Mondays are for the moms! Meet us in the middle for a variety of fitness classes from the nation’s leading prenatal and postnatal fitness program. From high-intensity cardio classes to total-body strength training sessions\, each class was created for moms at every stage of motherhood. \nFor more information or to sign up\, visit tampabay.fit4mom.com/midtown.
URL:https://midtowntampa.com/event/fit4mom-mondays-4/2026-05-11/
ATTACH;FMTTYPE=image/jpeg:https://midtowntampa.com/wp-content/uploads/2026/04/fitformoms.jpg
END:VEVENT
BEGIN:VEVENT
DTSTART;TZID=America/New_York:20260510T100000
DTEND;TZID=America/New_York:20260510T150000
DTSTAMP:20260422T223834
CREATED:20260421T151339Z
LAST-MODIFIED:20260422T193734Z
UID:10000927-1778407200-1778425200@midtowntampa.com
SUMMARY:Mothers Day at Midtown Tampa
DESCRIPTION:Make this Mother’s Day one to remember at Midtown Tampa! From rooftop views to feel-good favorites and an elevated brunch buffet\, there’s something for every kind of celebration. 💐 \nSal Y Mar Rooftop Bar \nTreat Mom to a skyline brunch at Sal Y Mar Rooftop Bar\, where you’ll find spring-inspired dishes\, shareable mimosas\, and the perfect setting to toast her.\nReserve your table \nTrue Food Kitchen \nLooking for something fresh? True Food Kitchen is serving up vibrant\, seasonal favorites\, plus a special gift card offer to keep the celebrations going.\nMake a reservation \nSunda New Asian \nOr go all out with a bold and flavorful brunch buffet at Sunda New Asian\, featuring everything from sushi and seafood to Ube waffles\, carving stations\, and Southeast Asian-inspired classics.\nBook your spot \nReservations are strongly encouraged\, lock in your table and celebrate Mom the Midtown way 💕
URL:https://midtowntampa.com/event/mothers-day-at-midtown-tampa/
LOCATION:Midtown Tampa\, 3659 Midtown Dr\, Tampa\, 33607\, United States
ATTACH;FMTTYPE=image/png:https://midtowntampa.com/wp-content/uploads/2026/04/260421_Midtown_MothersDayBrunch.png
END:VEVENT
BEGIN:VEVENT
DTSTART;TZID=America/New_York:20260507T180000
DTEND;TZID=America/New_York:20260507T220000
DTSTAMP:20260422T223834
CREATED:20260409T000538Z
LAST-MODIFIED:20260416T194901Z
UID:10000008-1778176800-1778191200@midtowntampa.com
SUMMARY:Sunset Market
DESCRIPTION:Makers + Cocktails + Live Music \nEnd your day with LIVE music\, cocktails and over 40 local vendors including artists\, jewelry\, and makers from the bay area! Join us at the The Sunset Market occurs 1st Thursday of each month. Local vendors can apply here.
URL:https://midtowntampa.com/event/sunset-market/2026-05-07/
ATTACH;FMTTYPE=image/jpeg:https://midtowntampa.com/wp-content/uploads/2026/04/sunset.jpg
END:VEVENT
BEGIN:VEVENT
DTSTART;TZID=America/New_York:20260507T100000
DTEND;TZID=America/New_York:20260507T110000
DTSTAMP:20260422T223834
CREATED:20260409T001840Z
LAST-MODIFIED:20260409T002314Z
UID:10000290-1778148000-1778151600@midtowntampa.com
SUMMARY:Stroller Sculpt Thursdays
DESCRIPTION:Mommy & Me fitness classes for all levels! \nCalling all moms! Certified pre/postnatal fitness instructor Sam Freed\, is hosting an energizing full-body\, low-impact workout that focuses on strength\, mobility\, and breathwork. This class is safe for all levels and will recur every Thursday.  Strollers and babies are welcome! \nRegister Now
URL:https://midtowntampa.com/event/stroller-sculpt-thursdays-6/2026-05-07/
ATTACH;FMTTYPE=image/jpeg:https://midtowntampa.com/wp-content/uploads/2025/11/Stroller-Sculpt-4-4-24-83-scaled-e1715119243345-1024x666-1.jpg
END:VEVENT
BEGIN:VEVENT
DTSTART;TZID=America/New_York:20260506T183000
DTEND;TZID=America/New_York:20260506T193000
DTSTAMP:20260422T223834
CREATED:20260422T165336Z
LAST-MODIFIED:20260422T165337Z
UID:10000030-1778092200-1778095800@midtowntampa.com
SUMMARY:Yoga in The Commons
DESCRIPTION:Namaste by the Bay comes to Midtown Tampa! Grab your mat and join Alex for an all-levels power flow class on the turf in the beautiful outdoor Midtown Commons. We will focus on building strength and mobility through mindful movement while connecting with our breath (and community!).\nEvery Wednesday\, from 6:30PM to 7:30PM
URL:https://midtowntampa.com/event/yoga-in-the-commons-6-2/2026-05-06/
ATTACH;FMTTYPE=image/jpeg:https://midtowntampa.com/wp-content/uploads/2023/07/mt-yoga-e1726060249960.jpeg
END:VEVENT
BEGIN:VEVENT
DTSTART;TZID=America/New_York:20260504T093000
DTEND;TZID=America/New_York:20260504T103000
DTSTAMP:20260422T223834
CREATED:20260409T000540Z
LAST-MODIFIED:20260416T180702Z
UID:10000549-1777887000-1777890600@midtowntampa.com
SUMMARY:Fit4Mom Mondays
DESCRIPTION:Mondays are for the moms! Meet us in the middle for a variety of fitness classes from the nation’s leading prenatal and postnatal fitness program. From high-intensity cardio classes to total-body strength training sessions\, each class was created for moms at every stage of motherhood. \nFor more information or to sign up\, visit tampabay.fit4mom.com/midtown.
URL:https://midtowntampa.com/event/fit4mom-mondays-4/2026-05-04/
ATTACH;FMTTYPE=image/jpeg:https://midtowntampa.com/wp-content/uploads/2026/04/fitformoms.jpg
END:VEVENT
BEGIN:VEVENT
DTSTART;TZID=America/New_York:20260501T180000
DTEND;TZID=America/New_York:20260501T220000
DTSTAMP:20260422T223834
CREATED:20260422T185714Z
LAST-MODIFIED:20260422T185714Z
UID:10000932-1777658400-1777672800@midtowntampa.com
SUMMARY:Corsa America Rally
DESCRIPTION:Corsa America Rally is stopping by Midtown on May 1 from 6–10 PM 🏁 \nAs part of the largest sports and luxury car rally in the U.S.\, this stop brings hundreds of exotic\, luxury\, and high-performance vehicles through the district. With 400+ cars each year\, Corsa America spans North America and Europe\, featuring curated routes\, 5-star stays\, track events\, and scenic drives built around world-class open roads. \nDon’t miss it in Midtown!
URL:https://midtowntampa.com/event/corsa-america-rally/
LOCATION:Midtown Tampa\, 3659 Midtown Dr\, Tampa\, 33607\, United States
ATTACH;FMTTYPE=image/png:https://midtowntampa.com/wp-content/uploads/2026/04/260421_Midtown_CorsaAmericaRally.png
END:VEVENT
BEGIN:VEVENT
DTSTART;TZID=America/New_York:20260430T100000
DTEND;TZID=America/New_York:20260430T110000
DTSTAMP:20260422T223834
CREATED:20260409T001840Z
LAST-MODIFIED:20260409T002314Z
UID:10000289-1777543200-1777546800@midtowntampa.com
SUMMARY:Stroller Sculpt Thursdays
DESCRIPTION:Mommy & Me fitness classes for all levels! \nCalling all moms! Certified pre/postnatal fitness instructor Sam Freed\, is hosting an energizing full-body\, low-impact workout that focuses on strength\, mobility\, and breathwork. This class is safe for all levels and will recur every Thursday.  Strollers and babies are welcome! \nRegister Now
URL:https://midtowntampa.com/event/stroller-sculpt-thursdays-6/2026-04-30/
ATTACH;FMTTYPE=image/jpeg:https://midtowntampa.com/wp-content/uploads/2025/11/Stroller-Sculpt-4-4-24-83-scaled-e1715119243345-1024x666-1.jpg
END:VEVENT
BEGIN:VEVENT
DTSTART;TZID=America/New_York:20260429T183000
DTEND;TZID=America/New_York:20260429T193000
DTSTAMP:20260422T223834
CREATED:20260422T165336Z
LAST-MODIFIED:20260422T165337Z
UID:10000028-1777487400-1777491000@midtowntampa.com
SUMMARY:Yoga in The Commons
DESCRIPTION:Namaste by the Bay comes to Midtown Tampa! Grab your mat and join Alex for an all-levels power flow class on the turf in the beautiful outdoor Midtown Commons. We will focus on building strength and mobility through mindful movement while connecting with our breath (and community!).\nEvery Wednesday\, from 6:30PM to 7:30PM
URL:https://midtowntampa.com/event/yoga-in-the-commons-6-2/2026-04-29/
ATTACH;FMTTYPE=image/jpeg:https://midtowntampa.com/wp-content/uploads/2023/07/mt-yoga-e1726060249960.jpeg
END:VEVENT
BEGIN:VEVENT
DTSTART;TZID=America/New_York:20260427T093000
DTEND;TZID=America/New_York:20260427T103000
DTSTAMP:20260422T223834
CREATED:20260409T000540Z
LAST-MODIFIED:20260416T180702Z
UID:10000548-1777282200-1777285800@midtowntampa.com
SUMMARY:Fit4Mom Mondays
DESCRIPTION:Mondays are for the moms! Meet us in the middle for a variety of fitness classes from the nation’s leading prenatal and postnatal fitness program. From high-intensity cardio classes to total-body strength training sessions\, each class was created for moms at every stage of motherhood. \nFor more information or to sign up\, visit tampabay.fit4mom.com/midtown.
URL:https://midtowntampa.com/event/fit4mom-mondays-4/2026-04-27/
ATTACH;FMTTYPE=image/jpeg:https://midtowntampa.com/wp-content/uploads/2026/04/fitformoms.jpg
END:VEVENT
BEGIN:VEVENT
DTSTART;TZID=America/New_York:20260425T100000
DTEND;TZID=America/New_York:20260425T150000
DTSTAMP:20260422T223834
CREATED:20260409T000539Z
LAST-MODIFIED:20260416T180922Z
UID:10000022-1777111200-1777129200@midtowntampa.com
SUMMARY:Sunshine Market
DESCRIPTION:Start your day with LIVE music\, cocktails and over 40 local vendors including artists\, jewelry\, and makers from the bay area! Join us at the Sunshine Market\, every 4th Saturday of each month. Local vendors can apply here.
URL:https://midtowntampa.com/event/sunshine-market-2/2026-04-25/
ATTACH;FMTTYPE=image/jpeg:https://midtowntampa.com/wp-content/uploads/2026/04/sunshine.jpg
END:VEVENT
BEGIN:VEVENT
DTSTART;TZID=America/New_York:20260423T100000
DTEND;TZID=America/New_York:20260423T110000
DTSTAMP:20260422T223834
CREATED:20260409T001840Z
LAST-MODIFIED:20260409T002314Z
UID:10000288-1776938400-1776942000@midtowntampa.com
SUMMARY:Stroller Sculpt Thursdays
DESCRIPTION:Mommy & Me fitness classes for all levels! \nCalling all moms! Certified pre/postnatal fitness instructor Sam Freed\, is hosting an energizing full-body\, low-impact workout that focuses on strength\, mobility\, and breathwork. This class is safe for all levels and will recur every Thursday.  Strollers and babies are welcome! \nRegister Now
URL:https://midtowntampa.com/event/stroller-sculpt-thursdays-6/2026-04-23/
ATTACH;FMTTYPE=image/jpeg:https://midtowntampa.com/wp-content/uploads/2025/11/Stroller-Sculpt-4-4-24-83-scaled-e1715119243345-1024x666-1.jpg
END:VEVENT
BEGIN:VEVENT
DTSTART;TZID=America/New_York:20260422T190000
DTEND;TZID=America/New_York:20260422T213000
DTSTAMP:20260422T223834
CREATED:20260409T000539Z
LAST-MODIFIED:20260409T003308Z
UID:10000003-1776884400-1776893400@midtowntampa.com
SUMMARY:RUN CLUB FOR MFS THAT DON’T RUN
DESCRIPTION:Something exciting is happening at Midtown Tampa!  \nWe’re partnering with Run Club for MFs That Don’t Run for a 1.5-mile run/walk followed by a post-run social hour featuring Midtown favorites\, local vendors\, food and drinks\, and the Red Bull DJ truck. Whether you’re looking to be active\, meet new people\, or check out Midtown\, this event is for everyone. \nBring your friends and meet us out for an evening of music\, vendors\, and Midtown energy.
URL:https://midtowntampa.com/event/run-club-for-mfs-that-dont-run/
ATTACH;FMTTYPE=image/png:https://midtowntampa.com/wp-content/uploads/2026/04/260407_Midtown_Event_RunClub.png
END:VEVENT
BEGIN:VEVENT
DTSTART;TZID=America/New_York:20260420T093000
DTEND;TZID=America/New_York:20260420T103000
DTSTAMP:20260422T223834
CREATED:20260409T000540Z
LAST-MODIFIED:20260416T180702Z
UID:10000547-1776677400-1776681000@midtowntampa.com
SUMMARY:Fit4Mom Mondays
DESCRIPTION:Mondays are for the moms! Meet us in the middle for a variety of fitness classes from the nation’s leading prenatal and postnatal fitness program. From high-intensity cardio classes to total-body strength training sessions\, each class was created for moms at every stage of motherhood. \nFor more information or to sign up\, visit tampabay.fit4mom.com/midtown.
URL:https://midtowntampa.com/event/fit4mom-mondays-4/2026-04-20/
ATTACH;FMTTYPE=image/jpeg:https://midtowntampa.com/wp-content/uploads/2026/04/fitformoms.jpg
END:VEVENT
BEGIN:VEVENT
DTSTART;TZID=America/New_York:20260419T090000
DTEND;TZID=America/New_York:20260419T110000
DTSTAMP:20260422T223834
CREATED:20260409T000540Z
LAST-MODIFIED:20260409T003208Z
UID:10000006-1776589200-1776596400@midtowntampa.com
SUMMARY:Sephora’s Spring Savings Event
DESCRIPTION:Let’s Get Groovy at Sephora’s Sip & Save Event! \nWHEN: Sunday\, April 19th\, 9 am-11 am\nWHAT: An exclusive\, closed-door event for our Beauty Insiders\nWHERE: Sephora Midtown Tampa\nWHY: A day to celebrate beauty and treat yourself! \nTickets go on sale on March 9th. Simply stop by Sephora to sign up; you will purchase a $50 gift card as your ticket to the event\, which can be used on the day of.
URL:https://midtowntampa.com/event/sephoras-spring-savings-event/
ATTACH;FMTTYPE=image/png:https://midtowntampa.com/wp-content/uploads/2026/03/260303_Midtown_Event_SipSave-1.png
END:VEVENT
BEGIN:VEVENT
DTSTART;TZID=America/New_York:20260416T100000
DTEND;TZID=America/New_York:20260416T110000
DTSTAMP:20260422T223834
CREATED:20260409T001840Z
LAST-MODIFIED:20260409T002314Z
UID:10000287-1776333600-1776337200@midtowntampa.com
SUMMARY:Stroller Sculpt Thursdays
DESCRIPTION:Mommy & Me fitness classes for all levels! \nCalling all moms! Certified pre/postnatal fitness instructor Sam Freed\, is hosting an energizing full-body\, low-impact workout that focuses on strength\, mobility\, and breathwork. This class is safe for all levels and will recur every Thursday.  Strollers and babies are welcome! \nRegister Now
URL:https://midtowntampa.com/event/stroller-sculpt-thursdays-6/2026-04-16/
ATTACH;FMTTYPE=image/jpeg:https://midtowntampa.com/wp-content/uploads/2025/11/Stroller-Sculpt-4-4-24-83-scaled-e1715119243345-1024x666-1.jpg
END:VEVENT
END:VCALENDAR