BEGIN:VCALENDAR
VERSION:2.0
PRODID:-//Midtown Tampa - ECPv6.15.20//NONSGML v1.0//EN
CALSCALE:GREGORIAN
METHOD:PUBLISH
X-ORIGINAL-URL:https://midtowntampa.com
X-WR-CALDESC:Events for Midtown Tampa
REFRESH-INTERVAL;VALUE=DURATION:PT1H
X-Robots-Tag:noindex
X-PUBLISHED-TTL:PT1H
BEGIN:VTIMEZONE
TZID:America/New_York
BEGIN:DAYLIGHT
TZOFFSETFROM:-0500
TZOFFSETTO:-0400
TZNAME:EDT
DTSTART:20270314T070000
END:DAYLIGHT
BEGIN:STANDARD
TZOFFSETFROM:-0400
TZOFFSETTO:-0500
TZNAME:EST
DTSTART:20271107T060000
END:STANDARD
BEGIN:DAYLIGHT
TZOFFSETFROM:-0500
TZOFFSETTO:-0400
TZNAME:EDT
DTSTART:20280312T070000
END:DAYLIGHT
BEGIN:STANDARD
TZOFFSETFROM:-0400
TZOFFSETTO:-0500
TZNAME:EST
DTSTART:20281105T060000
END:STANDARD
BEGIN:DAYLIGHT
TZOFFSETFROM:-0500
TZOFFSETTO:-0400
TZNAME:EDT
DTSTART:20290311T070000
END:DAYLIGHT
BEGIN:STANDARD
TZOFFSETFROM:-0400
TZOFFSETTO:-0500
TZNAME:EST
DTSTART:20291104T060000
END:STANDARD
END:VTIMEZONE
BEGIN:VEVENT
DTSTART;TZID=America/New_York:20280907T180000
DTEND;TZID=America/New_York:20280907T220000
DTSTAMP:20260424T012404
CREATED:20260409T000538Z
LAST-MODIFIED:20260416T194901Z
UID:10000895-1851962400-1851976800@midtowntampa.com
SUMMARY:Sunset Market
DESCRIPTION:Makers + Cocktails + Live Music \nEnd your day with LIVE music\, cocktails and over 40 local vendors including artists\, jewelry\, and makers from the bay area! Join us at the The Sunset Market occurs 1st Thursday of each month. Local vendors can apply here.
URL:https://midtowntampa.com/event/sunset-market/2028-09-07/
ATTACH;FMTTYPE=image/jpeg:https://midtowntampa.com/wp-content/uploads/2026/04/sunset.jpg
END:VEVENT
BEGIN:VEVENT
DTSTART;TZID=America/New_York:20280911T093000
DTEND;TZID=America/New_York:20280911T103000
DTSTAMP:20260424T012404
CREATED:20260409T000540Z
LAST-MODIFIED:20260416T180702Z
UID:10000672-1852277400-1852281000@midtowntampa.com
SUMMARY:Fit4Mom Mondays
DESCRIPTION:Mondays are for the moms! Meet us in the middle for a variety of fitness classes from the nation’s leading prenatal and postnatal fitness program. From high-intensity cardio classes to total-body strength training sessions\, each class was created for moms at every stage of motherhood. \nFor more information or to sign up\, visit tampabay.fit4mom.com/midtown.
URL:https://midtowntampa.com/event/fit4mom-mondays-4/2028-09-11/
ATTACH;FMTTYPE=image/jpeg:https://midtowntampa.com/wp-content/uploads/2026/04/fitformoms.jpg
END:VEVENT
BEGIN:VEVENT
DTSTART;TZID=America/New_York:20280913T183000
DTEND;TZID=America/New_York:20280913T193000
DTSTAMP:20260424T012404
CREATED:20260422T165336Z
LAST-MODIFIED:20260422T165337Z
UID:10000153-1852482600-1852486200@midtowntampa.com
SUMMARY:Yoga in The Commons
DESCRIPTION:Namaste by the Bay comes to Midtown Tampa! Grab your mat and join Alex for an all-levels power flow class on the turf in the beautiful outdoor Midtown Commons. We will focus on building strength and mobility through mindful movement while connecting with our breath (and community!).\nEvery Wednesday\, from 6:30PM to 7:30PM
URL:https://midtowntampa.com/event/yoga-in-the-commons-6-2/2028-09-13/
ATTACH;FMTTYPE=image/jpeg:https://midtowntampa.com/wp-content/uploads/2023/07/mt-yoga-e1726060249960.jpeg
END:VEVENT
BEGIN:VEVENT
DTSTART;TZID=America/New_York:20280914T100000
DTEND;TZID=America/New_York:20280914T110000
DTSTAMP:20260424T012404
CREATED:20260409T001840Z
LAST-MODIFIED:20260409T002314Z
UID:10000413-1852538400-1852542000@midtowntampa.com
SUMMARY:Stroller Sculpt Thursdays
DESCRIPTION:Mommy & Me fitness classes for all levels! \nCalling all moms! Certified pre/postnatal fitness instructor Sam Freed\, is hosting an energizing full-body\, low-impact workout that focuses on strength\, mobility\, and breathwork. This class is safe for all levels and will recur every Thursday.  Strollers and babies are welcome! \nRegister Now
URL:https://midtowntampa.com/event/stroller-sculpt-thursdays-6/2028-09-14/
ATTACH;FMTTYPE=image/jpeg:https://midtowntampa.com/wp-content/uploads/2025/11/Stroller-Sculpt-4-4-24-83-scaled-e1715119243345-1024x666-1.jpg
END:VEVENT
BEGIN:VEVENT
DTSTART;TZID=America/New_York:20280918T093000
DTEND;TZID=America/New_York:20280918T103000
DTSTAMP:20260424T012404
CREATED:20260409T000540Z
LAST-MODIFIED:20260416T180702Z
UID:10000673-1852882200-1852885800@midtowntampa.com
SUMMARY:Fit4Mom Mondays
DESCRIPTION:Mondays are for the moms! Meet us in the middle for a variety of fitness classes from the nation’s leading prenatal and postnatal fitness program. From high-intensity cardio classes to total-body strength training sessions\, each class was created for moms at every stage of motherhood. \nFor more information or to sign up\, visit tampabay.fit4mom.com/midtown.
URL:https://midtowntampa.com/event/fit4mom-mondays-4/2028-09-18/
ATTACH;FMTTYPE=image/jpeg:https://midtowntampa.com/wp-content/uploads/2026/04/fitformoms.jpg
END:VEVENT
BEGIN:VEVENT
DTSTART;TZID=America/New_York:20280920T183000
DTEND;TZID=America/New_York:20280920T193000
DTSTAMP:20260424T012404
CREATED:20260422T165336Z
LAST-MODIFIED:20260422T165337Z
UID:10000154-1853087400-1853091000@midtowntampa.com
SUMMARY:Yoga in The Commons
DESCRIPTION:Namaste by the Bay comes to Midtown Tampa! Grab your mat and join Alex for an all-levels power flow class on the turf in the beautiful outdoor Midtown Commons. We will focus on building strength and mobility through mindful movement while connecting with our breath (and community!).\nEvery Wednesday\, from 6:30PM to 7:30PM
URL:https://midtowntampa.com/event/yoga-in-the-commons-6-2/2028-09-20/
ATTACH;FMTTYPE=image/jpeg:https://midtowntampa.com/wp-content/uploads/2023/07/mt-yoga-e1726060249960.jpeg
END:VEVENT
BEGIN:VEVENT
DTSTART;TZID=America/New_York:20280921T100000
DTEND;TZID=America/New_York:20280921T110000
DTSTAMP:20260424T012404
CREATED:20260409T001840Z
LAST-MODIFIED:20260409T002314Z
UID:10000414-1853143200-1853146800@midtowntampa.com
SUMMARY:Stroller Sculpt Thursdays
DESCRIPTION:Mommy & Me fitness classes for all levels! \nCalling all moms! Certified pre/postnatal fitness instructor Sam Freed\, is hosting an energizing full-body\, low-impact workout that focuses on strength\, mobility\, and breathwork. This class is safe for all levels and will recur every Thursday.  Strollers and babies are welcome! \nRegister Now
URL:https://midtowntampa.com/event/stroller-sculpt-thursdays-6/2028-09-21/
ATTACH;FMTTYPE=image/jpeg:https://midtowntampa.com/wp-content/uploads/2025/11/Stroller-Sculpt-4-4-24-83-scaled-e1715119243345-1024x666-1.jpg
END:VEVENT
BEGIN:VEVENT
DTSTART;TZID=America/New_York:20280923T100000
DTEND;TZID=America/New_York:20280923T150000
DTSTAMP:20260424T012404
CREATED:20260409T000539Z
LAST-MODIFIED:20260416T180922Z
UID:10000837-1853316000-1853334000@midtowntampa.com
SUMMARY:Sunshine Market
DESCRIPTION:Start your day with LIVE music\, cocktails and over 40 local vendors including artists\, jewelry\, and makers from the bay area! Join us at the Sunshine Market\, every 4th Saturday of each month. Local vendors can apply here.
URL:https://midtowntampa.com/event/sunshine-market-2/2028-09-23/
ATTACH;FMTTYPE=image/jpeg:https://midtowntampa.com/wp-content/uploads/2026/04/sunshine.jpg
END:VEVENT
BEGIN:VEVENT
DTSTART;TZID=America/New_York:20280925T093000
DTEND;TZID=America/New_York:20280925T103000
DTSTAMP:20260424T012404
CREATED:20260409T000540Z
LAST-MODIFIED:20260416T180702Z
UID:10000674-1853487000-1853490600@midtowntampa.com
SUMMARY:Fit4Mom Mondays
DESCRIPTION:Mondays are for the moms! Meet us in the middle for a variety of fitness classes from the nation’s leading prenatal and postnatal fitness program. From high-intensity cardio classes to total-body strength training sessions\, each class was created for moms at every stage of motherhood. \nFor more information or to sign up\, visit tampabay.fit4mom.com/midtown.
URL:https://midtowntampa.com/event/fit4mom-mondays-4/2028-09-25/
ATTACH;FMTTYPE=image/jpeg:https://midtowntampa.com/wp-content/uploads/2026/04/fitformoms.jpg
END:VEVENT
BEGIN:VEVENT
DTSTART;TZID=America/New_York:20280927T183000
DTEND;TZID=America/New_York:20280927T193000
DTSTAMP:20260424T012404
CREATED:20260422T165336Z
LAST-MODIFIED:20260422T165337Z
UID:10000155-1853692200-1853695800@midtowntampa.com
SUMMARY:Yoga in The Commons
DESCRIPTION:Namaste by the Bay comes to Midtown Tampa! Grab your mat and join Alex for an all-levels power flow class on the turf in the beautiful outdoor Midtown Commons. We will focus on building strength and mobility through mindful movement while connecting with our breath (and community!).\nEvery Wednesday\, from 6:30PM to 7:30PM
URL:https://midtowntampa.com/event/yoga-in-the-commons-6-2/2028-09-27/
ATTACH;FMTTYPE=image/jpeg:https://midtowntampa.com/wp-content/uploads/2023/07/mt-yoga-e1726060249960.jpeg
END:VEVENT
BEGIN:VEVENT
DTSTART;TZID=America/New_York:20280928T100000
DTEND;TZID=America/New_York:20280928T110000
DTSTAMP:20260424T012404
CREATED:20260409T001840Z
LAST-MODIFIED:20260409T002314Z
UID:10000415-1853748000-1853751600@midtowntampa.com
SUMMARY:Stroller Sculpt Thursdays
DESCRIPTION:Mommy & Me fitness classes for all levels! \nCalling all moms! Certified pre/postnatal fitness instructor Sam Freed\, is hosting an energizing full-body\, low-impact workout that focuses on strength\, mobility\, and breathwork. This class is safe for all levels and will recur every Thursday.  Strollers and babies are welcome! \nRegister Now
URL:https://midtowntampa.com/event/stroller-sculpt-thursdays-6/2028-09-28/
ATTACH;FMTTYPE=image/jpeg:https://midtowntampa.com/wp-content/uploads/2025/11/Stroller-Sculpt-4-4-24-83-scaled-e1715119243345-1024x666-1.jpg
END:VEVENT
BEGIN:VEVENT
DTSTART;TZID=America/New_York:20281002T093000
DTEND;TZID=America/New_York:20281002T103000
DTSTAMP:20260424T012404
CREATED:20260409T000540Z
LAST-MODIFIED:20260416T180702Z
UID:10000675-1854091800-1854095400@midtowntampa.com
SUMMARY:Fit4Mom Mondays
DESCRIPTION:Mondays are for the moms! Meet us in the middle for a variety of fitness classes from the nation’s leading prenatal and postnatal fitness program. From high-intensity cardio classes to total-body strength training sessions\, each class was created for moms at every stage of motherhood. \nFor more information or to sign up\, visit tampabay.fit4mom.com/midtown.
URL:https://midtowntampa.com/event/fit4mom-mondays-4/2028-10-02/
ATTACH;FMTTYPE=image/jpeg:https://midtowntampa.com/wp-content/uploads/2026/04/fitformoms.jpg
END:VEVENT
BEGIN:VEVENT
DTSTART;TZID=America/New_York:20281004T183000
DTEND;TZID=America/New_York:20281004T193000
DTSTAMP:20260424T012404
CREATED:20260422T165336Z
LAST-MODIFIED:20260422T165337Z
UID:10000156-1854297000-1854300600@midtowntampa.com
SUMMARY:Yoga in The Commons
DESCRIPTION:Namaste by the Bay comes to Midtown Tampa! Grab your mat and join Alex for an all-levels power flow class on the turf in the beautiful outdoor Midtown Commons. We will focus on building strength and mobility through mindful movement while connecting with our breath (and community!).\nEvery Wednesday\, from 6:30PM to 7:30PM
URL:https://midtowntampa.com/event/yoga-in-the-commons-6-2/2028-10-04/
ATTACH;FMTTYPE=image/jpeg:https://midtowntampa.com/wp-content/uploads/2023/07/mt-yoga-e1726060249960.jpeg
END:VEVENT
BEGIN:VEVENT
DTSTART;TZID=America/New_York:20281005T100000
DTEND;TZID=America/New_York:20281005T110000
DTSTAMP:20260424T012404
CREATED:20260409T001840Z
LAST-MODIFIED:20260409T002314Z
UID:10000416-1854352800-1854356400@midtowntampa.com
SUMMARY:Stroller Sculpt Thursdays
DESCRIPTION:Mommy & Me fitness classes for all levels! \nCalling all moms! Certified pre/postnatal fitness instructor Sam Freed\, is hosting an energizing full-body\, low-impact workout that focuses on strength\, mobility\, and breathwork. This class is safe for all levels and will recur every Thursday.  Strollers and babies are welcome! \nRegister Now
URL:https://midtowntampa.com/event/stroller-sculpt-thursdays-6/2028-10-05/
ATTACH;FMTTYPE=image/jpeg:https://midtowntampa.com/wp-content/uploads/2025/11/Stroller-Sculpt-4-4-24-83-scaled-e1715119243345-1024x666-1.jpg
END:VEVENT
BEGIN:VEVENT
DTSTART;TZID=America/New_York:20281005T180000
DTEND;TZID=America/New_York:20281005T220000
DTSTAMP:20260424T012404
CREATED:20260409T000538Z
LAST-MODIFIED:20260416T194901Z
UID:10000896-1854381600-1854396000@midtowntampa.com
SUMMARY:Sunset Market
DESCRIPTION:Makers + Cocktails + Live Music \nEnd your day with LIVE music\, cocktails and over 40 local vendors including artists\, jewelry\, and makers from the bay area! Join us at the The Sunset Market occurs 1st Thursday of each month. Local vendors can apply here.
URL:https://midtowntampa.com/event/sunset-market/2028-10-05/
ATTACH;FMTTYPE=image/jpeg:https://midtowntampa.com/wp-content/uploads/2026/04/sunset.jpg
END:VEVENT
BEGIN:VEVENT
DTSTART;TZID=America/New_York:20281009T093000
DTEND;TZID=America/New_York:20281009T103000
DTSTAMP:20260424T012404
CREATED:20260409T000540Z
LAST-MODIFIED:20260416T180702Z
UID:10000676-1854696600-1854700200@midtowntampa.com
SUMMARY:Fit4Mom Mondays
DESCRIPTION:Mondays are for the moms! Meet us in the middle for a variety of fitness classes from the nation’s leading prenatal and postnatal fitness program. From high-intensity cardio classes to total-body strength training sessions\, each class was created for moms at every stage of motherhood. \nFor more information or to sign up\, visit tampabay.fit4mom.com/midtown.
URL:https://midtowntampa.com/event/fit4mom-mondays-4/2028-10-09/
ATTACH;FMTTYPE=image/jpeg:https://midtowntampa.com/wp-content/uploads/2026/04/fitformoms.jpg
END:VEVENT
BEGIN:VEVENT
DTSTART;TZID=America/New_York:20281011T183000
DTEND;TZID=America/New_York:20281011T193000
DTSTAMP:20260424T012404
CREATED:20260422T165336Z
LAST-MODIFIED:20260422T165337Z
UID:10000157-1854901800-1854905400@midtowntampa.com
SUMMARY:Yoga in The Commons
DESCRIPTION:Namaste by the Bay comes to Midtown Tampa! Grab your mat and join Alex for an all-levels power flow class on the turf in the beautiful outdoor Midtown Commons. We will focus on building strength and mobility through mindful movement while connecting with our breath (and community!).\nEvery Wednesday\, from 6:30PM to 7:30PM
URL:https://midtowntampa.com/event/yoga-in-the-commons-6-2/2028-10-11/
ATTACH;FMTTYPE=image/jpeg:https://midtowntampa.com/wp-content/uploads/2023/07/mt-yoga-e1726060249960.jpeg
END:VEVENT
BEGIN:VEVENT
DTSTART;TZID=America/New_York:20281012T100000
DTEND;TZID=America/New_York:20281012T110000
DTSTAMP:20260424T012404
CREATED:20260409T001840Z
LAST-MODIFIED:20260409T002314Z
UID:10000417-1854957600-1854961200@midtowntampa.com
SUMMARY:Stroller Sculpt Thursdays
DESCRIPTION:Mommy & Me fitness classes for all levels! \nCalling all moms! Certified pre/postnatal fitness instructor Sam Freed\, is hosting an energizing full-body\, low-impact workout that focuses on strength\, mobility\, and breathwork. This class is safe for all levels and will recur every Thursday.  Strollers and babies are welcome! \nRegister Now
URL:https://midtowntampa.com/event/stroller-sculpt-thursdays-6/2028-10-12/
ATTACH;FMTTYPE=image/jpeg:https://midtowntampa.com/wp-content/uploads/2025/11/Stroller-Sculpt-4-4-24-83-scaled-e1715119243345-1024x666-1.jpg
END:VEVENT
BEGIN:VEVENT
DTSTART;TZID=America/New_York:20281016T093000
DTEND;TZID=America/New_York:20281016T103000
DTSTAMP:20260424T012404
CREATED:20260409T000540Z
LAST-MODIFIED:20260416T180702Z
UID:10000677-1855301400-1855305000@midtowntampa.com
SUMMARY:Fit4Mom Mondays
DESCRIPTION:Mondays are for the moms! Meet us in the middle for a variety of fitness classes from the nation’s leading prenatal and postnatal fitness program. From high-intensity cardio classes to total-body strength training sessions\, each class was created for moms at every stage of motherhood. \nFor more information or to sign up\, visit tampabay.fit4mom.com/midtown.
URL:https://midtowntampa.com/event/fit4mom-mondays-4/2028-10-16/
ATTACH;FMTTYPE=image/jpeg:https://midtowntampa.com/wp-content/uploads/2026/04/fitformoms.jpg
END:VEVENT
BEGIN:VEVENT
DTSTART;TZID=America/New_York:20281018T183000
DTEND;TZID=America/New_York:20281018T193000
DTSTAMP:20260424T012404
CREATED:20260422T165336Z
LAST-MODIFIED:20260422T165337Z
UID:10000158-1855506600-1855510200@midtowntampa.com
SUMMARY:Yoga in The Commons
DESCRIPTION:Namaste by the Bay comes to Midtown Tampa! Grab your mat and join Alex for an all-levels power flow class on the turf in the beautiful outdoor Midtown Commons. We will focus on building strength and mobility through mindful movement while connecting with our breath (and community!).\nEvery Wednesday\, from 6:30PM to 7:30PM
URL:https://midtowntampa.com/event/yoga-in-the-commons-6-2/2028-10-18/
ATTACH;FMTTYPE=image/jpeg:https://midtowntampa.com/wp-content/uploads/2023/07/mt-yoga-e1726060249960.jpeg
END:VEVENT
BEGIN:VEVENT
DTSTART;TZID=America/New_York:20281019T100000
DTEND;TZID=America/New_York:20281019T110000
DTSTAMP:20260424T012404
CREATED:20260409T001840Z
LAST-MODIFIED:20260409T002314Z
UID:10000418-1855562400-1855566000@midtowntampa.com
SUMMARY:Stroller Sculpt Thursdays
DESCRIPTION:Mommy & Me fitness classes for all levels! \nCalling all moms! Certified pre/postnatal fitness instructor Sam Freed\, is hosting an energizing full-body\, low-impact workout that focuses on strength\, mobility\, and breathwork. This class is safe for all levels and will recur every Thursday.  Strollers and babies are welcome! \nRegister Now
URL:https://midtowntampa.com/event/stroller-sculpt-thursdays-6/2028-10-19/
ATTACH;FMTTYPE=image/jpeg:https://midtowntampa.com/wp-content/uploads/2025/11/Stroller-Sculpt-4-4-24-83-scaled-e1715119243345-1024x666-1.jpg
END:VEVENT
BEGIN:VEVENT
DTSTART;TZID=America/New_York:20281023T093000
DTEND;TZID=America/New_York:20281023T103000
DTSTAMP:20260424T012404
CREATED:20260409T000540Z
LAST-MODIFIED:20260416T180702Z
UID:10000678-1855906200-1855909800@midtowntampa.com
SUMMARY:Fit4Mom Mondays
DESCRIPTION:Mondays are for the moms! Meet us in the middle for a variety of fitness classes from the nation’s leading prenatal and postnatal fitness program. From high-intensity cardio classes to total-body strength training sessions\, each class was created for moms at every stage of motherhood. \nFor more information or to sign up\, visit tampabay.fit4mom.com/midtown.
URL:https://midtowntampa.com/event/fit4mom-mondays-4/2028-10-23/
ATTACH;FMTTYPE=image/jpeg:https://midtowntampa.com/wp-content/uploads/2026/04/fitformoms.jpg
END:VEVENT
BEGIN:VEVENT
DTSTART;TZID=America/New_York:20281025T183000
DTEND;TZID=America/New_York:20281025T193000
DTSTAMP:20260424T012404
CREATED:20260422T165336Z
LAST-MODIFIED:20260422T165337Z
UID:10000159-1856111400-1856115000@midtowntampa.com
SUMMARY:Yoga in The Commons
DESCRIPTION:Namaste by the Bay comes to Midtown Tampa! Grab your mat and join Alex for an all-levels power flow class on the turf in the beautiful outdoor Midtown Commons. We will focus on building strength and mobility through mindful movement while connecting with our breath (and community!).\nEvery Wednesday\, from 6:30PM to 7:30PM
URL:https://midtowntampa.com/event/yoga-in-the-commons-6-2/2028-10-25/
ATTACH;FMTTYPE=image/jpeg:https://midtowntampa.com/wp-content/uploads/2023/07/mt-yoga-e1726060249960.jpeg
END:VEVENT
BEGIN:VEVENT
DTSTART;TZID=America/New_York:20281026T100000
DTEND;TZID=America/New_York:20281026T110000
DTSTAMP:20260424T012404
CREATED:20260409T001840Z
LAST-MODIFIED:20260409T002314Z
UID:10000419-1856167200-1856170800@midtowntampa.com
SUMMARY:Stroller Sculpt Thursdays
DESCRIPTION:Mommy & Me fitness classes for all levels! \nCalling all moms! Certified pre/postnatal fitness instructor Sam Freed\, is hosting an energizing full-body\, low-impact workout that focuses on strength\, mobility\, and breathwork. This class is safe for all levels and will recur every Thursday.  Strollers and babies are welcome! \nRegister Now
URL:https://midtowntampa.com/event/stroller-sculpt-thursdays-6/2028-10-26/
ATTACH;FMTTYPE=image/jpeg:https://midtowntampa.com/wp-content/uploads/2025/11/Stroller-Sculpt-4-4-24-83-scaled-e1715119243345-1024x666-1.jpg
END:VEVENT
BEGIN:VEVENT
DTSTART;TZID=America/New_York:20281028T100000
DTEND;TZID=America/New_York:20281028T150000
DTSTAMP:20260424T012404
CREATED:20260409T000539Z
LAST-MODIFIED:20260416T180922Z
UID:10000838-1856340000-1856358000@midtowntampa.com
SUMMARY:Sunshine Market
DESCRIPTION:Start your day with LIVE music\, cocktails and over 40 local vendors including artists\, jewelry\, and makers from the bay area! Join us at the Sunshine Market\, every 4th Saturday of each month. Local vendors can apply here.
URL:https://midtowntampa.com/event/sunshine-market-2/2028-10-28/
ATTACH;FMTTYPE=image/jpeg:https://midtowntampa.com/wp-content/uploads/2026/04/sunshine.jpg
END:VEVENT
BEGIN:VEVENT
DTSTART;TZID=America/New_York:20281030T093000
DTEND;TZID=America/New_York:20281030T103000
DTSTAMP:20260424T012404
CREATED:20260409T000540Z
LAST-MODIFIED:20260416T180702Z
UID:10000679-1856511000-1856514600@midtowntampa.com
SUMMARY:Fit4Mom Mondays
DESCRIPTION:Mondays are for the moms! Meet us in the middle for a variety of fitness classes from the nation’s leading prenatal and postnatal fitness program. From high-intensity cardio classes to total-body strength training sessions\, each class was created for moms at every stage of motherhood. \nFor more information or to sign up\, visit tampabay.fit4mom.com/midtown.
URL:https://midtowntampa.com/event/fit4mom-mondays-4/2028-10-30/
ATTACH;FMTTYPE=image/jpeg:https://midtowntampa.com/wp-content/uploads/2026/04/fitformoms.jpg
END:VEVENT
BEGIN:VEVENT
DTSTART;TZID=America/New_York:20281101T183000
DTEND;TZID=America/New_York:20281101T193000
DTSTAMP:20260424T012404
CREATED:20260422T165336Z
LAST-MODIFIED:20260422T165337Z
UID:10000160-1856716200-1856719800@midtowntampa.com
SUMMARY:Yoga in The Commons
DESCRIPTION:Namaste by the Bay comes to Midtown Tampa! Grab your mat and join Alex for an all-levels power flow class on the turf in the beautiful outdoor Midtown Commons. We will focus on building strength and mobility through mindful movement while connecting with our breath (and community!).\nEvery Wednesday\, from 6:30PM to 7:30PM
URL:https://midtowntampa.com/event/yoga-in-the-commons-6-2/2028-11-01/
ATTACH;FMTTYPE=image/jpeg:https://midtowntampa.com/wp-content/uploads/2023/07/mt-yoga-e1726060249960.jpeg
END:VEVENT
BEGIN:VEVENT
DTSTART;TZID=America/New_York:20281102T100000
DTEND;TZID=America/New_York:20281102T110000
DTSTAMP:20260424T012404
CREATED:20260409T001840Z
LAST-MODIFIED:20260409T002314Z
UID:10000420-1856772000-1856775600@midtowntampa.com
SUMMARY:Stroller Sculpt Thursdays
DESCRIPTION:Mommy & Me fitness classes for all levels! \nCalling all moms! Certified pre/postnatal fitness instructor Sam Freed\, is hosting an energizing full-body\, low-impact workout that focuses on strength\, mobility\, and breathwork. This class is safe for all levels and will recur every Thursday.  Strollers and babies are welcome! \nRegister Now
URL:https://midtowntampa.com/event/stroller-sculpt-thursdays-6/2028-11-02/
ATTACH;FMTTYPE=image/jpeg:https://midtowntampa.com/wp-content/uploads/2025/11/Stroller-Sculpt-4-4-24-83-scaled-e1715119243345-1024x666-1.jpg
END:VEVENT
BEGIN:VEVENT
DTSTART;TZID=America/New_York:20281102T180000
DTEND;TZID=America/New_York:20281102T220000
DTSTAMP:20260424T012404
CREATED:20260409T000538Z
LAST-MODIFIED:20260416T194901Z
UID:10000897-1856800800-1856815200@midtowntampa.com
SUMMARY:Sunset Market
DESCRIPTION:Makers + Cocktails + Live Music \nEnd your day with LIVE music\, cocktails and over 40 local vendors including artists\, jewelry\, and makers from the bay area! Join us at the The Sunset Market occurs 1st Thursday of each month. Local vendors can apply here.
URL:https://midtowntampa.com/event/sunset-market/2028-11-02/
ATTACH;FMTTYPE=image/jpeg:https://midtowntampa.com/wp-content/uploads/2026/04/sunset.jpg
END:VEVENT
BEGIN:VEVENT
DTSTART;TZID=America/New_York:20281106T093000
DTEND;TZID=America/New_York:20281106T103000
DTSTAMP:20260424T012404
CREATED:20260409T000540Z
LAST-MODIFIED:20260416T180702Z
UID:10000680-1857115800-1857119400@midtowntampa.com
SUMMARY:Fit4Mom Mondays
DESCRIPTION:Mondays are for the moms! Meet us in the middle for a variety of fitness classes from the nation’s leading prenatal and postnatal fitness program. From high-intensity cardio classes to total-body strength training sessions\, each class was created for moms at every stage of motherhood. \nFor more information or to sign up\, visit tampabay.fit4mom.com/midtown.
URL:https://midtowntampa.com/event/fit4mom-mondays-4/2028-11-06/
ATTACH;FMTTYPE=image/jpeg:https://midtowntampa.com/wp-content/uploads/2026/04/fitformoms.jpg
END:VEVENT
END:VCALENDAR