BEGIN:VCALENDAR
VERSION:2.0
PRODID:-//Midtown Tampa - ECPv6.15.20//NONSGML v1.0//EN
CALSCALE:GREGORIAN
METHOD:PUBLISH
X-WR-CALNAME:Midtown Tampa
X-ORIGINAL-URL:https://midtowntampa.com
X-WR-CALDESC:Events for Midtown Tampa
REFRESH-INTERVAL;VALUE=DURATION:PT1H
X-Robots-Tag:noindex
X-PUBLISHED-TTL:PT1H
BEGIN:VTIMEZONE
TZID:America/New_York
BEGIN:DAYLIGHT
TZOFFSETFROM:-0500
TZOFFSETTO:-0400
TZNAME:EDT
DTSTART:20270314T070000
END:DAYLIGHT
BEGIN:STANDARD
TZOFFSETFROM:-0400
TZOFFSETTO:-0500
TZNAME:EST
DTSTART:20271107T060000
END:STANDARD
BEGIN:DAYLIGHT
TZOFFSETFROM:-0500
TZOFFSETTO:-0400
TZNAME:EDT
DTSTART:20280312T070000
END:DAYLIGHT
BEGIN:STANDARD
TZOFFSETFROM:-0400
TZOFFSETTO:-0500
TZNAME:EST
DTSTART:20281105T060000
END:STANDARD
BEGIN:DAYLIGHT
TZOFFSETFROM:-0500
TZOFFSETTO:-0400
TZNAME:EDT
DTSTART:20290311T070000
END:DAYLIGHT
BEGIN:STANDARD
TZOFFSETFROM:-0400
TZOFFSETTO:-0500
TZNAME:EST
DTSTART:20291104T060000
END:STANDARD
END:VTIMEZONE
BEGIN:VEVENT
DTSTART;TZID=America/New_York:20280724T093000
DTEND;TZID=America/New_York:20280724T103000
DTSTAMP:20260423T201956
CREATED:20260409T000540Z
LAST-MODIFIED:20260416T180702Z
UID:10000665-1848043800-1848047400@midtowntampa.com
SUMMARY:Fit4Mom Mondays
DESCRIPTION:Mondays are for the moms! Meet us in the middle for a variety of fitness classes from the nation’s leading prenatal and postnatal fitness program. From high-intensity cardio classes to total-body strength training sessions\, each class was created for moms at every stage of motherhood. \nFor more information or to sign up\, visit tampabay.fit4mom.com/midtown.
URL:https://midtowntampa.com/event/fit4mom-mondays-4/2028-07-24/
ATTACH;FMTTYPE=image/jpeg:https://midtowntampa.com/wp-content/uploads/2026/04/fitformoms.jpg
END:VEVENT
BEGIN:VEVENT
DTSTART;TZID=America/New_York:20280726T183000
DTEND;TZID=America/New_York:20280726T193000
DTSTAMP:20260423T201956
CREATED:20260422T165336Z
LAST-MODIFIED:20260422T165337Z
UID:10000146-1848249000-1848252600@midtowntampa.com
SUMMARY:Yoga in The Commons
DESCRIPTION:Namaste by the Bay comes to Midtown Tampa! Grab your mat and join Alex for an all-levels power flow class on the turf in the beautiful outdoor Midtown Commons. We will focus on building strength and mobility through mindful movement while connecting with our breath (and community!).\nEvery Wednesday\, from 6:30PM to 7:30PM
URL:https://midtowntampa.com/event/yoga-in-the-commons-6-2/2028-07-26/
ATTACH;FMTTYPE=image/jpeg:https://midtowntampa.com/wp-content/uploads/2023/07/mt-yoga-e1726060249960.jpeg
END:VEVENT
BEGIN:VEVENT
DTSTART;TZID=America/New_York:20280727T100000
DTEND;TZID=America/New_York:20280727T110000
DTSTAMP:20260423T201956
CREATED:20260409T001840Z
LAST-MODIFIED:20260409T002314Z
UID:10000406-1848304800-1848308400@midtowntampa.com
SUMMARY:Stroller Sculpt Thursdays
DESCRIPTION:Mommy & Me fitness classes for all levels! \nCalling all moms! Certified pre/postnatal fitness instructor Sam Freed\, is hosting an energizing full-body\, low-impact workout that focuses on strength\, mobility\, and breathwork. This class is safe for all levels and will recur every Thursday.  Strollers and babies are welcome! \nRegister Now
URL:https://midtowntampa.com/event/stroller-sculpt-thursdays-6/2028-07-27/
ATTACH;FMTTYPE=image/jpeg:https://midtowntampa.com/wp-content/uploads/2025/11/Stroller-Sculpt-4-4-24-83-scaled-e1715119243345-1024x666-1.jpg
END:VEVENT
BEGIN:VEVENT
DTSTART;TZID=America/New_York:20280731T093000
DTEND;TZID=America/New_York:20280731T103000
DTSTAMP:20260423T201956
CREATED:20260409T000540Z
LAST-MODIFIED:20260416T180702Z
UID:10000666-1848648600-1848652200@midtowntampa.com
SUMMARY:Fit4Mom Mondays
DESCRIPTION:Mondays are for the moms! Meet us in the middle for a variety of fitness classes from the nation’s leading prenatal and postnatal fitness program. From high-intensity cardio classes to total-body strength training sessions\, each class was created for moms at every stage of motherhood. \nFor more information or to sign up\, visit tampabay.fit4mom.com/midtown.
URL:https://midtowntampa.com/event/fit4mom-mondays-4/2028-07-31/
ATTACH;FMTTYPE=image/jpeg:https://midtowntampa.com/wp-content/uploads/2026/04/fitformoms.jpg
END:VEVENT
BEGIN:VEVENT
DTSTART;TZID=America/New_York:20280802T183000
DTEND;TZID=America/New_York:20280802T193000
DTSTAMP:20260423T201956
CREATED:20260422T165336Z
LAST-MODIFIED:20260422T165337Z
UID:10000147-1848853800-1848857400@midtowntampa.com
SUMMARY:Yoga in The Commons
DESCRIPTION:Namaste by the Bay comes to Midtown Tampa! Grab your mat and join Alex for an all-levels power flow class on the turf in the beautiful outdoor Midtown Commons. We will focus on building strength and mobility through mindful movement while connecting with our breath (and community!).\nEvery Wednesday\, from 6:30PM to 7:30PM
URL:https://midtowntampa.com/event/yoga-in-the-commons-6-2/2028-08-02/
ATTACH;FMTTYPE=image/jpeg:https://midtowntampa.com/wp-content/uploads/2023/07/mt-yoga-e1726060249960.jpeg
END:VEVENT
BEGIN:VEVENT
DTSTART;TZID=America/New_York:20280803T100000
DTEND;TZID=America/New_York:20280803T110000
DTSTAMP:20260423T201956
CREATED:20260409T001840Z
LAST-MODIFIED:20260409T002314Z
UID:10000407-1848909600-1848913200@midtowntampa.com
SUMMARY:Stroller Sculpt Thursdays
DESCRIPTION:Mommy & Me fitness classes for all levels! \nCalling all moms! Certified pre/postnatal fitness instructor Sam Freed\, is hosting an energizing full-body\, low-impact workout that focuses on strength\, mobility\, and breathwork. This class is safe for all levels and will recur every Thursday.  Strollers and babies are welcome! \nRegister Now
URL:https://midtowntampa.com/event/stroller-sculpt-thursdays-6/2028-08-03/
ATTACH;FMTTYPE=image/jpeg:https://midtowntampa.com/wp-content/uploads/2025/11/Stroller-Sculpt-4-4-24-83-scaled-e1715119243345-1024x666-1.jpg
END:VEVENT
BEGIN:VEVENT
DTSTART;TZID=America/New_York:20280803T180000
DTEND;TZID=America/New_York:20280803T220000
DTSTAMP:20260423T201956
CREATED:20260409T000538Z
LAST-MODIFIED:20260416T194901Z
UID:10000894-1848938400-1848952800@midtowntampa.com
SUMMARY:Sunset Market
DESCRIPTION:Makers + Cocktails + Live Music \nEnd your day with LIVE music\, cocktails and over 40 local vendors including artists\, jewelry\, and makers from the bay area! Join us at the The Sunset Market occurs 1st Thursday of each month. Local vendors can apply here.
URL:https://midtowntampa.com/event/sunset-market/2028-08-03/
ATTACH;FMTTYPE=image/jpeg:https://midtowntampa.com/wp-content/uploads/2026/04/sunset.jpg
END:VEVENT
BEGIN:VEVENT
DTSTART;TZID=America/New_York:20280807T093000
DTEND;TZID=America/New_York:20280807T103000
DTSTAMP:20260423T201956
CREATED:20260409T000540Z
LAST-MODIFIED:20260416T180702Z
UID:10000667-1849253400-1849257000@midtowntampa.com
SUMMARY:Fit4Mom Mondays
DESCRIPTION:Mondays are for the moms! Meet us in the middle for a variety of fitness classes from the nation’s leading prenatal and postnatal fitness program. From high-intensity cardio classes to total-body strength training sessions\, each class was created for moms at every stage of motherhood. \nFor more information or to sign up\, visit tampabay.fit4mom.com/midtown.
URL:https://midtowntampa.com/event/fit4mom-mondays-4/2028-08-07/
ATTACH;FMTTYPE=image/jpeg:https://midtowntampa.com/wp-content/uploads/2026/04/fitformoms.jpg
END:VEVENT
BEGIN:VEVENT
DTSTART;TZID=America/New_York:20280809T183000
DTEND;TZID=America/New_York:20280809T193000
DTSTAMP:20260423T201956
CREATED:20260422T165336Z
LAST-MODIFIED:20260422T165337Z
UID:10000148-1849458600-1849462200@midtowntampa.com
SUMMARY:Yoga in The Commons
DESCRIPTION:Namaste by the Bay comes to Midtown Tampa! Grab your mat and join Alex for an all-levels power flow class on the turf in the beautiful outdoor Midtown Commons. We will focus on building strength and mobility through mindful movement while connecting with our breath (and community!).\nEvery Wednesday\, from 6:30PM to 7:30PM
URL:https://midtowntampa.com/event/yoga-in-the-commons-6-2/2028-08-09/
ATTACH;FMTTYPE=image/jpeg:https://midtowntampa.com/wp-content/uploads/2023/07/mt-yoga-e1726060249960.jpeg
END:VEVENT
BEGIN:VEVENT
DTSTART;TZID=America/New_York:20280810T100000
DTEND;TZID=America/New_York:20280810T110000
DTSTAMP:20260423T201956
CREATED:20260409T001840Z
LAST-MODIFIED:20260409T002314Z
UID:10000408-1849514400-1849518000@midtowntampa.com
SUMMARY:Stroller Sculpt Thursdays
DESCRIPTION:Mommy & Me fitness classes for all levels! \nCalling all moms! Certified pre/postnatal fitness instructor Sam Freed\, is hosting an energizing full-body\, low-impact workout that focuses on strength\, mobility\, and breathwork. This class is safe for all levels and will recur every Thursday.  Strollers and babies are welcome! \nRegister Now
URL:https://midtowntampa.com/event/stroller-sculpt-thursdays-6/2028-08-10/
ATTACH;FMTTYPE=image/jpeg:https://midtowntampa.com/wp-content/uploads/2025/11/Stroller-Sculpt-4-4-24-83-scaled-e1715119243345-1024x666-1.jpg
END:VEVENT
BEGIN:VEVENT
DTSTART;TZID=America/New_York:20280814T093000
DTEND;TZID=America/New_York:20280814T103000
DTSTAMP:20260423T201956
CREATED:20260409T000540Z
LAST-MODIFIED:20260416T180702Z
UID:10000668-1849858200-1849861800@midtowntampa.com
SUMMARY:Fit4Mom Mondays
DESCRIPTION:Mondays are for the moms! Meet us in the middle for a variety of fitness classes from the nation’s leading prenatal and postnatal fitness program. From high-intensity cardio classes to total-body strength training sessions\, each class was created for moms at every stage of motherhood. \nFor more information or to sign up\, visit tampabay.fit4mom.com/midtown.
URL:https://midtowntampa.com/event/fit4mom-mondays-4/2028-08-14/
ATTACH;FMTTYPE=image/jpeg:https://midtowntampa.com/wp-content/uploads/2026/04/fitformoms.jpg
END:VEVENT
BEGIN:VEVENT
DTSTART;TZID=America/New_York:20280816T183000
DTEND;TZID=America/New_York:20280816T193000
DTSTAMP:20260423T201956
CREATED:20260422T165336Z
LAST-MODIFIED:20260422T165337Z
UID:10000149-1850063400-1850067000@midtowntampa.com
SUMMARY:Yoga in The Commons
DESCRIPTION:Namaste by the Bay comes to Midtown Tampa! Grab your mat and join Alex for an all-levels power flow class on the turf in the beautiful outdoor Midtown Commons. We will focus on building strength and mobility through mindful movement while connecting with our breath (and community!).\nEvery Wednesday\, from 6:30PM to 7:30PM
URL:https://midtowntampa.com/event/yoga-in-the-commons-6-2/2028-08-16/
ATTACH;FMTTYPE=image/jpeg:https://midtowntampa.com/wp-content/uploads/2023/07/mt-yoga-e1726060249960.jpeg
END:VEVENT
BEGIN:VEVENT
DTSTART;TZID=America/New_York:20280817T100000
DTEND;TZID=America/New_York:20280817T110000
DTSTAMP:20260423T201956
CREATED:20260409T001840Z
LAST-MODIFIED:20260409T002314Z
UID:10000409-1850119200-1850122800@midtowntampa.com
SUMMARY:Stroller Sculpt Thursdays
DESCRIPTION:Mommy & Me fitness classes for all levels! \nCalling all moms! Certified pre/postnatal fitness instructor Sam Freed\, is hosting an energizing full-body\, low-impact workout that focuses on strength\, mobility\, and breathwork. This class is safe for all levels and will recur every Thursday.  Strollers and babies are welcome! \nRegister Now
URL:https://midtowntampa.com/event/stroller-sculpt-thursdays-6/2028-08-17/
ATTACH;FMTTYPE=image/jpeg:https://midtowntampa.com/wp-content/uploads/2025/11/Stroller-Sculpt-4-4-24-83-scaled-e1715119243345-1024x666-1.jpg
END:VEVENT
BEGIN:VEVENT
DTSTART;TZID=America/New_York:20280821T093000
DTEND;TZID=America/New_York:20280821T103000
DTSTAMP:20260423T201956
CREATED:20260409T000540Z
LAST-MODIFIED:20260416T180702Z
UID:10000669-1850463000-1850466600@midtowntampa.com
SUMMARY:Fit4Mom Mondays
DESCRIPTION:Mondays are for the moms! Meet us in the middle for a variety of fitness classes from the nation’s leading prenatal and postnatal fitness program. From high-intensity cardio classes to total-body strength training sessions\, each class was created for moms at every stage of motherhood. \nFor more information or to sign up\, visit tampabay.fit4mom.com/midtown.
URL:https://midtowntampa.com/event/fit4mom-mondays-4/2028-08-21/
ATTACH;FMTTYPE=image/jpeg:https://midtowntampa.com/wp-content/uploads/2026/04/fitformoms.jpg
END:VEVENT
BEGIN:VEVENT
DTSTART;TZID=America/New_York:20280823T183000
DTEND;TZID=America/New_York:20280823T193000
DTSTAMP:20260423T201956
CREATED:20260422T165336Z
LAST-MODIFIED:20260422T165337Z
UID:10000150-1850668200-1850671800@midtowntampa.com
SUMMARY:Yoga in The Commons
DESCRIPTION:Namaste by the Bay comes to Midtown Tampa! Grab your mat and join Alex for an all-levels power flow class on the turf in the beautiful outdoor Midtown Commons. We will focus on building strength and mobility through mindful movement while connecting with our breath (and community!).\nEvery Wednesday\, from 6:30PM to 7:30PM
URL:https://midtowntampa.com/event/yoga-in-the-commons-6-2/2028-08-23/
ATTACH;FMTTYPE=image/jpeg:https://midtowntampa.com/wp-content/uploads/2023/07/mt-yoga-e1726060249960.jpeg
END:VEVENT
BEGIN:VEVENT
DTSTART;TZID=America/New_York:20280824T100000
DTEND;TZID=America/New_York:20280824T110000
DTSTAMP:20260423T201957
CREATED:20260409T001840Z
LAST-MODIFIED:20260409T002314Z
UID:10000410-1850724000-1850727600@midtowntampa.com
SUMMARY:Stroller Sculpt Thursdays
DESCRIPTION:Mommy & Me fitness classes for all levels! \nCalling all moms! Certified pre/postnatal fitness instructor Sam Freed\, is hosting an energizing full-body\, low-impact workout that focuses on strength\, mobility\, and breathwork. This class is safe for all levels and will recur every Thursday.  Strollers and babies are welcome! \nRegister Now
URL:https://midtowntampa.com/event/stroller-sculpt-thursdays-6/2028-08-24/
ATTACH;FMTTYPE=image/jpeg:https://midtowntampa.com/wp-content/uploads/2025/11/Stroller-Sculpt-4-4-24-83-scaled-e1715119243345-1024x666-1.jpg
END:VEVENT
BEGIN:VEVENT
DTSTART;TZID=America/New_York:20280826T100000
DTEND;TZID=America/New_York:20280826T150000
DTSTAMP:20260423T201957
CREATED:20260409T000539Z
LAST-MODIFIED:20260416T180922Z
UID:10000836-1850896800-1850914800@midtowntampa.com
SUMMARY:Sunshine Market
DESCRIPTION:Start your day with LIVE music\, cocktails and over 40 local vendors including artists\, jewelry\, and makers from the bay area! Join us at the Sunshine Market\, every 4th Saturday of each month. Local vendors can apply here.
URL:https://midtowntampa.com/event/sunshine-market-2/2028-08-26/
ATTACH;FMTTYPE=image/jpeg:https://midtowntampa.com/wp-content/uploads/2026/04/sunshine.jpg
END:VEVENT
BEGIN:VEVENT
DTSTART;TZID=America/New_York:20280828T093000
DTEND;TZID=America/New_York:20280828T103000
DTSTAMP:20260423T201957
CREATED:20260409T000540Z
LAST-MODIFIED:20260416T180702Z
UID:10000670-1851067800-1851071400@midtowntampa.com
SUMMARY:Fit4Mom Mondays
DESCRIPTION:Mondays are for the moms! Meet us in the middle for a variety of fitness classes from the nation’s leading prenatal and postnatal fitness program. From high-intensity cardio classes to total-body strength training sessions\, each class was created for moms at every stage of motherhood. \nFor more information or to sign up\, visit tampabay.fit4mom.com/midtown.
URL:https://midtowntampa.com/event/fit4mom-mondays-4/2028-08-28/
ATTACH;FMTTYPE=image/jpeg:https://midtowntampa.com/wp-content/uploads/2026/04/fitformoms.jpg
END:VEVENT
BEGIN:VEVENT
DTSTART;TZID=America/New_York:20280830T183000
DTEND;TZID=America/New_York:20280830T193000
DTSTAMP:20260423T201957
CREATED:20260422T165336Z
LAST-MODIFIED:20260422T165337Z
UID:10000151-1851273000-1851276600@midtowntampa.com
SUMMARY:Yoga in The Commons
DESCRIPTION:Namaste by the Bay comes to Midtown Tampa! Grab your mat and join Alex for an all-levels power flow class on the turf in the beautiful outdoor Midtown Commons. We will focus on building strength and mobility through mindful movement while connecting with our breath (and community!).\nEvery Wednesday\, from 6:30PM to 7:30PM
URL:https://midtowntampa.com/event/yoga-in-the-commons-6-2/2028-08-30/
ATTACH;FMTTYPE=image/jpeg:https://midtowntampa.com/wp-content/uploads/2023/07/mt-yoga-e1726060249960.jpeg
END:VEVENT
BEGIN:VEVENT
DTSTART;TZID=America/New_York:20280831T100000
DTEND;TZID=America/New_York:20280831T110000
DTSTAMP:20260423T201957
CREATED:20260409T001840Z
LAST-MODIFIED:20260409T002314Z
UID:10000411-1851328800-1851332400@midtowntampa.com
SUMMARY:Stroller Sculpt Thursdays
DESCRIPTION:Mommy & Me fitness classes for all levels! \nCalling all moms! Certified pre/postnatal fitness instructor Sam Freed\, is hosting an energizing full-body\, low-impact workout that focuses on strength\, mobility\, and breathwork. This class is safe for all levels and will recur every Thursday.  Strollers and babies are welcome! \nRegister Now
URL:https://midtowntampa.com/event/stroller-sculpt-thursdays-6/2028-08-31/
ATTACH;FMTTYPE=image/jpeg:https://midtowntampa.com/wp-content/uploads/2025/11/Stroller-Sculpt-4-4-24-83-scaled-e1715119243345-1024x666-1.jpg
END:VEVENT
BEGIN:VEVENT
DTSTART;TZID=America/New_York:20280904T093000
DTEND;TZID=America/New_York:20280904T103000
DTSTAMP:20260423T201957
CREATED:20260409T000540Z
LAST-MODIFIED:20260416T180702Z
UID:10000671-1851672600-1851676200@midtowntampa.com
SUMMARY:Fit4Mom Mondays
DESCRIPTION:Mondays are for the moms! Meet us in the middle for a variety of fitness classes from the nation’s leading prenatal and postnatal fitness program. From high-intensity cardio classes to total-body strength training sessions\, each class was created for moms at every stage of motherhood. \nFor more information or to sign up\, visit tampabay.fit4mom.com/midtown.
URL:https://midtowntampa.com/event/fit4mom-mondays-4/2028-09-04/
ATTACH;FMTTYPE=image/jpeg:https://midtowntampa.com/wp-content/uploads/2026/04/fitformoms.jpg
END:VEVENT
BEGIN:VEVENT
DTSTART;TZID=America/New_York:20280906T183000
DTEND;TZID=America/New_York:20280906T193000
DTSTAMP:20260423T201957
CREATED:20260422T165336Z
LAST-MODIFIED:20260422T165337Z
UID:10000152-1851877800-1851881400@midtowntampa.com
SUMMARY:Yoga in The Commons
DESCRIPTION:Namaste by the Bay comes to Midtown Tampa! Grab your mat and join Alex for an all-levels power flow class on the turf in the beautiful outdoor Midtown Commons. We will focus on building strength and mobility through mindful movement while connecting with our breath (and community!).\nEvery Wednesday\, from 6:30PM to 7:30PM
URL:https://midtowntampa.com/event/yoga-in-the-commons-6-2/2028-09-06/
ATTACH;FMTTYPE=image/jpeg:https://midtowntampa.com/wp-content/uploads/2023/07/mt-yoga-e1726060249960.jpeg
END:VEVENT
BEGIN:VEVENT
DTSTART;TZID=America/New_York:20280907T100000
DTEND;TZID=America/New_York:20280907T110000
DTSTAMP:20260423T201957
CREATED:20260409T001840Z
LAST-MODIFIED:20260409T002314Z
UID:10000412-1851933600-1851937200@midtowntampa.com
SUMMARY:Stroller Sculpt Thursdays
DESCRIPTION:Mommy & Me fitness classes for all levels! \nCalling all moms! Certified pre/postnatal fitness instructor Sam Freed\, is hosting an energizing full-body\, low-impact workout that focuses on strength\, mobility\, and breathwork. This class is safe for all levels and will recur every Thursday.  Strollers and babies are welcome! \nRegister Now
URL:https://midtowntampa.com/event/stroller-sculpt-thursdays-6/2028-09-07/
ATTACH;FMTTYPE=image/jpeg:https://midtowntampa.com/wp-content/uploads/2025/11/Stroller-Sculpt-4-4-24-83-scaled-e1715119243345-1024x666-1.jpg
END:VEVENT
BEGIN:VEVENT
DTSTART;TZID=America/New_York:20280907T180000
DTEND;TZID=America/New_York:20280907T220000
DTSTAMP:20260423T201957
CREATED:20260409T000538Z
LAST-MODIFIED:20260416T194901Z
UID:10000895-1851962400-1851976800@midtowntampa.com
SUMMARY:Sunset Market
DESCRIPTION:Makers + Cocktails + Live Music \nEnd your day with LIVE music\, cocktails and over 40 local vendors including artists\, jewelry\, and makers from the bay area! Join us at the The Sunset Market occurs 1st Thursday of each month. Local vendors can apply here.
URL:https://midtowntampa.com/event/sunset-market/2028-09-07/
ATTACH;FMTTYPE=image/jpeg:https://midtowntampa.com/wp-content/uploads/2026/04/sunset.jpg
END:VEVENT
BEGIN:VEVENT
DTSTART;TZID=America/New_York:20280911T093000
DTEND;TZID=America/New_York:20280911T103000
DTSTAMP:20260423T201957
CREATED:20260409T000540Z
LAST-MODIFIED:20260416T180702Z
UID:10000672-1852277400-1852281000@midtowntampa.com
SUMMARY:Fit4Mom Mondays
DESCRIPTION:Mondays are for the moms! Meet us in the middle for a variety of fitness classes from the nation’s leading prenatal and postnatal fitness program. From high-intensity cardio classes to total-body strength training sessions\, each class was created for moms at every stage of motherhood. \nFor more information or to sign up\, visit tampabay.fit4mom.com/midtown.
URL:https://midtowntampa.com/event/fit4mom-mondays-4/2028-09-11/
ATTACH;FMTTYPE=image/jpeg:https://midtowntampa.com/wp-content/uploads/2026/04/fitformoms.jpg
END:VEVENT
BEGIN:VEVENT
DTSTART;TZID=America/New_York:20280913T183000
DTEND;TZID=America/New_York:20280913T193000
DTSTAMP:20260423T201957
CREATED:20260422T165336Z
LAST-MODIFIED:20260422T165337Z
UID:10000153-1852482600-1852486200@midtowntampa.com
SUMMARY:Yoga in The Commons
DESCRIPTION:Namaste by the Bay comes to Midtown Tampa! Grab your mat and join Alex for an all-levels power flow class on the turf in the beautiful outdoor Midtown Commons. We will focus on building strength and mobility through mindful movement while connecting with our breath (and community!).\nEvery Wednesday\, from 6:30PM to 7:30PM
URL:https://midtowntampa.com/event/yoga-in-the-commons-6-2/2028-09-13/
ATTACH;FMTTYPE=image/jpeg:https://midtowntampa.com/wp-content/uploads/2023/07/mt-yoga-e1726060249960.jpeg
END:VEVENT
BEGIN:VEVENT
DTSTART;TZID=America/New_York:20280914T100000
DTEND;TZID=America/New_York:20280914T110000
DTSTAMP:20260423T201957
CREATED:20260409T001840Z
LAST-MODIFIED:20260409T002314Z
UID:10000413-1852538400-1852542000@midtowntampa.com
SUMMARY:Stroller Sculpt Thursdays
DESCRIPTION:Mommy & Me fitness classes for all levels! \nCalling all moms! Certified pre/postnatal fitness instructor Sam Freed\, is hosting an energizing full-body\, low-impact workout that focuses on strength\, mobility\, and breathwork. This class is safe for all levels and will recur every Thursday.  Strollers and babies are welcome! \nRegister Now
URL:https://midtowntampa.com/event/stroller-sculpt-thursdays-6/2028-09-14/
ATTACH;FMTTYPE=image/jpeg:https://midtowntampa.com/wp-content/uploads/2025/11/Stroller-Sculpt-4-4-24-83-scaled-e1715119243345-1024x666-1.jpg
END:VEVENT
BEGIN:VEVENT
DTSTART;TZID=America/New_York:20280918T093000
DTEND;TZID=America/New_York:20280918T103000
DTSTAMP:20260423T201957
CREATED:20260409T000540Z
LAST-MODIFIED:20260416T180702Z
UID:10000673-1852882200-1852885800@midtowntampa.com
SUMMARY:Fit4Mom Mondays
DESCRIPTION:Mondays are for the moms! Meet us in the middle for a variety of fitness classes from the nation’s leading prenatal and postnatal fitness program. From high-intensity cardio classes to total-body strength training sessions\, each class was created for moms at every stage of motherhood. \nFor more information or to sign up\, visit tampabay.fit4mom.com/midtown.
URL:https://midtowntampa.com/event/fit4mom-mondays-4/2028-09-18/
ATTACH;FMTTYPE=image/jpeg:https://midtowntampa.com/wp-content/uploads/2026/04/fitformoms.jpg
END:VEVENT
BEGIN:VEVENT
DTSTART;TZID=America/New_York:20280920T183000
DTEND;TZID=America/New_York:20280920T193000
DTSTAMP:20260423T201957
CREATED:20260422T165336Z
LAST-MODIFIED:20260422T165337Z
UID:10000154-1853087400-1853091000@midtowntampa.com
SUMMARY:Yoga in The Commons
DESCRIPTION:Namaste by the Bay comes to Midtown Tampa! Grab your mat and join Alex for an all-levels power flow class on the turf in the beautiful outdoor Midtown Commons. We will focus on building strength and mobility through mindful movement while connecting with our breath (and community!).\nEvery Wednesday\, from 6:30PM to 7:30PM
URL:https://midtowntampa.com/event/yoga-in-the-commons-6-2/2028-09-20/
ATTACH;FMTTYPE=image/jpeg:https://midtowntampa.com/wp-content/uploads/2023/07/mt-yoga-e1726060249960.jpeg
END:VEVENT
BEGIN:VEVENT
DTSTART;TZID=America/New_York:20280921T100000
DTEND;TZID=America/New_York:20280921T110000
DTSTAMP:20260423T201957
CREATED:20260409T001840Z
LAST-MODIFIED:20260409T002314Z
UID:10000414-1853143200-1853146800@midtowntampa.com
SUMMARY:Stroller Sculpt Thursdays
DESCRIPTION:Mommy & Me fitness classes for all levels! \nCalling all moms! Certified pre/postnatal fitness instructor Sam Freed\, is hosting an energizing full-body\, low-impact workout that focuses on strength\, mobility\, and breathwork. This class is safe for all levels and will recur every Thursday.  Strollers and babies are welcome! \nRegister Now
URL:https://midtowntampa.com/event/stroller-sculpt-thursdays-6/2028-09-21/
ATTACH;FMTTYPE=image/jpeg:https://midtowntampa.com/wp-content/uploads/2025/11/Stroller-Sculpt-4-4-24-83-scaled-e1715119243345-1024x666-1.jpg
END:VEVENT
END:VCALENDAR