BEGIN:VCALENDAR
VERSION:2.0
PRODID:-//Midtown Tampa - ECPv6.15.20//NONSGML v1.0//EN
CALSCALE:GREGORIAN
METHOD:PUBLISH
X-ORIGINAL-URL:https://midtowntampa.com
X-WR-CALDESC:Events for Midtown Tampa
REFRESH-INTERVAL;VALUE=DURATION:PT1H
X-Robots-Tag:noindex
X-PUBLISHED-TTL:PT1H
BEGIN:VTIMEZONE
TZID:America/New_York
BEGIN:DAYLIGHT
TZOFFSETFROM:-0500
TZOFFSETTO:-0400
TZNAME:EDT
DTSTART:20270314T070000
END:DAYLIGHT
BEGIN:STANDARD
TZOFFSETFROM:-0400
TZOFFSETTO:-0500
TZNAME:EST
DTSTART:20271107T060000
END:STANDARD
BEGIN:DAYLIGHT
TZOFFSETFROM:-0500
TZOFFSETTO:-0400
TZNAME:EDT
DTSTART:20280312T070000
END:DAYLIGHT
BEGIN:STANDARD
TZOFFSETFROM:-0400
TZOFFSETTO:-0500
TZNAME:EST
DTSTART:20281105T060000
END:STANDARD
BEGIN:DAYLIGHT
TZOFFSETFROM:-0500
TZOFFSETTO:-0400
TZNAME:EDT
DTSTART:20290311T070000
END:DAYLIGHT
BEGIN:STANDARD
TZOFFSETFROM:-0400
TZOFFSETTO:-0500
TZNAME:EST
DTSTART:20291104T060000
END:STANDARD
END:VTIMEZONE
BEGIN:VEVENT
DTSTART;TZID=America/New_York:20280601T180000
DTEND;TZID=America/New_York:20280601T220000
DTSTAMP:20260423T174651
CREATED:20260409T000538Z
LAST-MODIFIED:20260416T194901Z
UID:10000892-1843495200-1843509600@midtowntampa.com
SUMMARY:Sunset Market
DESCRIPTION:Makers + Cocktails + Live Music \nEnd your day with LIVE music\, cocktails and over 40 local vendors including artists\, jewelry\, and makers from the bay area! Join us at the The Sunset Market occurs 1st Thursday of each month. Local vendors can apply here.
URL:https://midtowntampa.com/event/sunset-market/2028-06-01/
ATTACH;FMTTYPE=image/jpeg:https://midtowntampa.com/wp-content/uploads/2026/04/sunset.jpg
END:VEVENT
BEGIN:VEVENT
DTSTART;TZID=America/New_York:20280605T093000
DTEND;TZID=America/New_York:20280605T103000
DTSTAMP:20260423T174651
CREATED:20260409T000540Z
LAST-MODIFIED:20260416T180702Z
UID:10000658-1843810200-1843813800@midtowntampa.com
SUMMARY:Fit4Mom Mondays
DESCRIPTION:Mondays are for the moms! Meet us in the middle for a variety of fitness classes from the nation’s leading prenatal and postnatal fitness program. From high-intensity cardio classes to total-body strength training sessions\, each class was created for moms at every stage of motherhood. \nFor more information or to sign up\, visit tampabay.fit4mom.com/midtown.
URL:https://midtowntampa.com/event/fit4mom-mondays-4/2028-06-05/
ATTACH;FMTTYPE=image/jpeg:https://midtowntampa.com/wp-content/uploads/2026/04/fitformoms.jpg
END:VEVENT
BEGIN:VEVENT
DTSTART;TZID=America/New_York:20280607T183000
DTEND;TZID=America/New_York:20280607T193000
DTSTAMP:20260423T174651
CREATED:20260422T165336Z
LAST-MODIFIED:20260422T165337Z
UID:10000139-1844015400-1844019000@midtowntampa.com
SUMMARY:Yoga in The Commons
DESCRIPTION:Namaste by the Bay comes to Midtown Tampa! Grab your mat and join Alex for an all-levels power flow class on the turf in the beautiful outdoor Midtown Commons. We will focus on building strength and mobility through mindful movement while connecting with our breath (and community!).\nEvery Wednesday\, from 6:30PM to 7:30PM
URL:https://midtowntampa.com/event/yoga-in-the-commons-6-2/2028-06-07/
ATTACH;FMTTYPE=image/jpeg:https://midtowntampa.com/wp-content/uploads/2023/07/mt-yoga-e1726060249960.jpeg
END:VEVENT
BEGIN:VEVENT
DTSTART;TZID=America/New_York:20280608T100000
DTEND;TZID=America/New_York:20280608T110000
DTSTAMP:20260423T174651
CREATED:20260409T001840Z
LAST-MODIFIED:20260409T002314Z
UID:10000399-1844071200-1844074800@midtowntampa.com
SUMMARY:Stroller Sculpt Thursdays
DESCRIPTION:Mommy & Me fitness classes for all levels! \nCalling all moms! Certified pre/postnatal fitness instructor Sam Freed\, is hosting an energizing full-body\, low-impact workout that focuses on strength\, mobility\, and breathwork. This class is safe for all levels and will recur every Thursday.  Strollers and babies are welcome! \nRegister Now
URL:https://midtowntampa.com/event/stroller-sculpt-thursdays-6/2028-06-08/
ATTACH;FMTTYPE=image/jpeg:https://midtowntampa.com/wp-content/uploads/2025/11/Stroller-Sculpt-4-4-24-83-scaled-e1715119243345-1024x666-1.jpg
END:VEVENT
BEGIN:VEVENT
DTSTART;TZID=America/New_York:20280612T093000
DTEND;TZID=America/New_York:20280612T103000
DTSTAMP:20260423T174651
CREATED:20260409T000540Z
LAST-MODIFIED:20260416T180702Z
UID:10000659-1844415000-1844418600@midtowntampa.com
SUMMARY:Fit4Mom Mondays
DESCRIPTION:Mondays are for the moms! Meet us in the middle for a variety of fitness classes from the nation’s leading prenatal and postnatal fitness program. From high-intensity cardio classes to total-body strength training sessions\, each class was created for moms at every stage of motherhood. \nFor more information or to sign up\, visit tampabay.fit4mom.com/midtown.
URL:https://midtowntampa.com/event/fit4mom-mondays-4/2028-06-12/
ATTACH;FMTTYPE=image/jpeg:https://midtowntampa.com/wp-content/uploads/2026/04/fitformoms.jpg
END:VEVENT
BEGIN:VEVENT
DTSTART;TZID=America/New_York:20280614T183000
DTEND;TZID=America/New_York:20280614T193000
DTSTAMP:20260423T174651
CREATED:20260422T165336Z
LAST-MODIFIED:20260422T165337Z
UID:10000140-1844620200-1844623800@midtowntampa.com
SUMMARY:Yoga in The Commons
DESCRIPTION:Namaste by the Bay comes to Midtown Tampa! Grab your mat and join Alex for an all-levels power flow class on the turf in the beautiful outdoor Midtown Commons. We will focus on building strength and mobility through mindful movement while connecting with our breath (and community!).\nEvery Wednesday\, from 6:30PM to 7:30PM
URL:https://midtowntampa.com/event/yoga-in-the-commons-6-2/2028-06-14/
ATTACH;FMTTYPE=image/jpeg:https://midtowntampa.com/wp-content/uploads/2023/07/mt-yoga-e1726060249960.jpeg
END:VEVENT
BEGIN:VEVENT
DTSTART;TZID=America/New_York:20280615T100000
DTEND;TZID=America/New_York:20280615T110000
DTSTAMP:20260423T174651
CREATED:20260409T001840Z
LAST-MODIFIED:20260409T002314Z
UID:10000400-1844676000-1844679600@midtowntampa.com
SUMMARY:Stroller Sculpt Thursdays
DESCRIPTION:Mommy & Me fitness classes for all levels! \nCalling all moms! Certified pre/postnatal fitness instructor Sam Freed\, is hosting an energizing full-body\, low-impact workout that focuses on strength\, mobility\, and breathwork. This class is safe for all levels and will recur every Thursday.  Strollers and babies are welcome! \nRegister Now
URL:https://midtowntampa.com/event/stroller-sculpt-thursdays-6/2028-06-15/
ATTACH;FMTTYPE=image/jpeg:https://midtowntampa.com/wp-content/uploads/2025/11/Stroller-Sculpt-4-4-24-83-scaled-e1715119243345-1024x666-1.jpg
END:VEVENT
BEGIN:VEVENT
DTSTART;TZID=America/New_York:20280619T093000
DTEND;TZID=America/New_York:20280619T103000
DTSTAMP:20260423T174651
CREATED:20260409T000540Z
LAST-MODIFIED:20260416T180702Z
UID:10000660-1845019800-1845023400@midtowntampa.com
SUMMARY:Fit4Mom Mondays
DESCRIPTION:Mondays are for the moms! Meet us in the middle for a variety of fitness classes from the nation’s leading prenatal and postnatal fitness program. From high-intensity cardio classes to total-body strength training sessions\, each class was created for moms at every stage of motherhood. \nFor more information or to sign up\, visit tampabay.fit4mom.com/midtown.
URL:https://midtowntampa.com/event/fit4mom-mondays-4/2028-06-19/
ATTACH;FMTTYPE=image/jpeg:https://midtowntampa.com/wp-content/uploads/2026/04/fitformoms.jpg
END:VEVENT
BEGIN:VEVENT
DTSTART;TZID=America/New_York:20280621T183000
DTEND;TZID=America/New_York:20280621T193000
DTSTAMP:20260423T174651
CREATED:20260422T165336Z
LAST-MODIFIED:20260422T165337Z
UID:10000141-1845225000-1845228600@midtowntampa.com
SUMMARY:Yoga in The Commons
DESCRIPTION:Namaste by the Bay comes to Midtown Tampa! Grab your mat and join Alex for an all-levels power flow class on the turf in the beautiful outdoor Midtown Commons. We will focus on building strength and mobility through mindful movement while connecting with our breath (and community!).\nEvery Wednesday\, from 6:30PM to 7:30PM
URL:https://midtowntampa.com/event/yoga-in-the-commons-6-2/2028-06-21/
ATTACH;FMTTYPE=image/jpeg:https://midtowntampa.com/wp-content/uploads/2023/07/mt-yoga-e1726060249960.jpeg
END:VEVENT
BEGIN:VEVENT
DTSTART;TZID=America/New_York:20280622T100000
DTEND;TZID=America/New_York:20280622T110000
DTSTAMP:20260423T174651
CREATED:20260409T001840Z
LAST-MODIFIED:20260409T002314Z
UID:10000401-1845280800-1845284400@midtowntampa.com
SUMMARY:Stroller Sculpt Thursdays
DESCRIPTION:Mommy & Me fitness classes for all levels! \nCalling all moms! Certified pre/postnatal fitness instructor Sam Freed\, is hosting an energizing full-body\, low-impact workout that focuses on strength\, mobility\, and breathwork. This class is safe for all levels and will recur every Thursday.  Strollers and babies are welcome! \nRegister Now
URL:https://midtowntampa.com/event/stroller-sculpt-thursdays-6/2028-06-22/
ATTACH;FMTTYPE=image/jpeg:https://midtowntampa.com/wp-content/uploads/2025/11/Stroller-Sculpt-4-4-24-83-scaled-e1715119243345-1024x666-1.jpg
END:VEVENT
BEGIN:VEVENT
DTSTART;TZID=America/New_York:20280624T100000
DTEND;TZID=America/New_York:20280624T150000
DTSTAMP:20260423T174651
CREATED:20260409T000539Z
LAST-MODIFIED:20260416T180922Z
UID:10000834-1845453600-1845471600@midtowntampa.com
SUMMARY:Sunshine Market
DESCRIPTION:Start your day with LIVE music\, cocktails and over 40 local vendors including artists\, jewelry\, and makers from the bay area! Join us at the Sunshine Market\, every 4th Saturday of each month. Local vendors can apply here.
URL:https://midtowntampa.com/event/sunshine-market-2/2028-06-24/
ATTACH;FMTTYPE=image/jpeg:https://midtowntampa.com/wp-content/uploads/2026/04/sunshine.jpg
END:VEVENT
BEGIN:VEVENT
DTSTART;TZID=America/New_York:20280626T093000
DTEND;TZID=America/New_York:20280626T103000
DTSTAMP:20260423T174651
CREATED:20260409T000540Z
LAST-MODIFIED:20260416T180702Z
UID:10000661-1845624600-1845628200@midtowntampa.com
SUMMARY:Fit4Mom Mondays
DESCRIPTION:Mondays are for the moms! Meet us in the middle for a variety of fitness classes from the nation’s leading prenatal and postnatal fitness program. From high-intensity cardio classes to total-body strength training sessions\, each class was created for moms at every stage of motherhood. \nFor more information or to sign up\, visit tampabay.fit4mom.com/midtown.
URL:https://midtowntampa.com/event/fit4mom-mondays-4/2028-06-26/
ATTACH;FMTTYPE=image/jpeg:https://midtowntampa.com/wp-content/uploads/2026/04/fitformoms.jpg
END:VEVENT
BEGIN:VEVENT
DTSTART;TZID=America/New_York:20280628T183000
DTEND;TZID=America/New_York:20280628T193000
DTSTAMP:20260423T174651
CREATED:20260422T165336Z
LAST-MODIFIED:20260422T165337Z
UID:10000142-1845829800-1845833400@midtowntampa.com
SUMMARY:Yoga in The Commons
DESCRIPTION:Namaste by the Bay comes to Midtown Tampa! Grab your mat and join Alex for an all-levels power flow class on the turf in the beautiful outdoor Midtown Commons. We will focus on building strength and mobility through mindful movement while connecting with our breath (and community!).\nEvery Wednesday\, from 6:30PM to 7:30PM
URL:https://midtowntampa.com/event/yoga-in-the-commons-6-2/2028-06-28/
ATTACH;FMTTYPE=image/jpeg:https://midtowntampa.com/wp-content/uploads/2023/07/mt-yoga-e1726060249960.jpeg
END:VEVENT
BEGIN:VEVENT
DTSTART;TZID=America/New_York:20280629T100000
DTEND;TZID=America/New_York:20280629T110000
DTSTAMP:20260423T174651
CREATED:20260409T001840Z
LAST-MODIFIED:20260409T002314Z
UID:10000402-1845885600-1845889200@midtowntampa.com
SUMMARY:Stroller Sculpt Thursdays
DESCRIPTION:Mommy & Me fitness classes for all levels! \nCalling all moms! Certified pre/postnatal fitness instructor Sam Freed\, is hosting an energizing full-body\, low-impact workout that focuses on strength\, mobility\, and breathwork. This class is safe for all levels and will recur every Thursday.  Strollers and babies are welcome! \nRegister Now
URL:https://midtowntampa.com/event/stroller-sculpt-thursdays-6/2028-06-29/
ATTACH;FMTTYPE=image/jpeg:https://midtowntampa.com/wp-content/uploads/2025/11/Stroller-Sculpt-4-4-24-83-scaled-e1715119243345-1024x666-1.jpg
END:VEVENT
BEGIN:VEVENT
DTSTART;TZID=America/New_York:20280703T093000
DTEND;TZID=America/New_York:20280703T103000
DTSTAMP:20260423T174651
CREATED:20260409T000540Z
LAST-MODIFIED:20260416T180702Z
UID:10000662-1846229400-1846233000@midtowntampa.com
SUMMARY:Fit4Mom Mondays
DESCRIPTION:Mondays are for the moms! Meet us in the middle for a variety of fitness classes from the nation’s leading prenatal and postnatal fitness program. From high-intensity cardio classes to total-body strength training sessions\, each class was created for moms at every stage of motherhood. \nFor more information or to sign up\, visit tampabay.fit4mom.com/midtown.
URL:https://midtowntampa.com/event/fit4mom-mondays-4/2028-07-03/
ATTACH;FMTTYPE=image/jpeg:https://midtowntampa.com/wp-content/uploads/2026/04/fitformoms.jpg
END:VEVENT
BEGIN:VEVENT
DTSTART;TZID=America/New_York:20280705T183000
DTEND;TZID=America/New_York:20280705T193000
DTSTAMP:20260423T174651
CREATED:20260422T165336Z
LAST-MODIFIED:20260422T165337Z
UID:10000143-1846434600-1846438200@midtowntampa.com
SUMMARY:Yoga in The Commons
DESCRIPTION:Namaste by the Bay comes to Midtown Tampa! Grab your mat and join Alex for an all-levels power flow class on the turf in the beautiful outdoor Midtown Commons. We will focus on building strength and mobility through mindful movement while connecting with our breath (and community!).\nEvery Wednesday\, from 6:30PM to 7:30PM
URL:https://midtowntampa.com/event/yoga-in-the-commons-6-2/2028-07-05/
ATTACH;FMTTYPE=image/jpeg:https://midtowntampa.com/wp-content/uploads/2023/07/mt-yoga-e1726060249960.jpeg
END:VEVENT
BEGIN:VEVENT
DTSTART;TZID=America/New_York:20280706T100000
DTEND;TZID=America/New_York:20280706T110000
DTSTAMP:20260423T174651
CREATED:20260409T001840Z
LAST-MODIFIED:20260409T002314Z
UID:10000403-1846490400-1846494000@midtowntampa.com
SUMMARY:Stroller Sculpt Thursdays
DESCRIPTION:Mommy & Me fitness classes for all levels! \nCalling all moms! Certified pre/postnatal fitness instructor Sam Freed\, is hosting an energizing full-body\, low-impact workout that focuses on strength\, mobility\, and breathwork. This class is safe for all levels and will recur every Thursday.  Strollers and babies are welcome! \nRegister Now
URL:https://midtowntampa.com/event/stroller-sculpt-thursdays-6/2028-07-06/
ATTACH;FMTTYPE=image/jpeg:https://midtowntampa.com/wp-content/uploads/2025/11/Stroller-Sculpt-4-4-24-83-scaled-e1715119243345-1024x666-1.jpg
END:VEVENT
BEGIN:VEVENT
DTSTART;TZID=America/New_York:20280706T180000
DTEND;TZID=America/New_York:20280706T220000
DTSTAMP:20260423T174651
CREATED:20260409T000538Z
LAST-MODIFIED:20260416T194901Z
UID:10000893-1846519200-1846533600@midtowntampa.com
SUMMARY:Sunset Market
DESCRIPTION:Makers + Cocktails + Live Music \nEnd your day with LIVE music\, cocktails and over 40 local vendors including artists\, jewelry\, and makers from the bay area! Join us at the The Sunset Market occurs 1st Thursday of each month. Local vendors can apply here.
URL:https://midtowntampa.com/event/sunset-market/2028-07-06/
ATTACH;FMTTYPE=image/jpeg:https://midtowntampa.com/wp-content/uploads/2026/04/sunset.jpg
END:VEVENT
BEGIN:VEVENT
DTSTART;TZID=America/New_York:20280710T093000
DTEND;TZID=America/New_York:20280710T103000
DTSTAMP:20260423T174651
CREATED:20260409T000540Z
LAST-MODIFIED:20260416T180702Z
UID:10000663-1846834200-1846837800@midtowntampa.com
SUMMARY:Fit4Mom Mondays
DESCRIPTION:Mondays are for the moms! Meet us in the middle for a variety of fitness classes from the nation’s leading prenatal and postnatal fitness program. From high-intensity cardio classes to total-body strength training sessions\, each class was created for moms at every stage of motherhood. \nFor more information or to sign up\, visit tampabay.fit4mom.com/midtown.
URL:https://midtowntampa.com/event/fit4mom-mondays-4/2028-07-10/
ATTACH;FMTTYPE=image/jpeg:https://midtowntampa.com/wp-content/uploads/2026/04/fitformoms.jpg
END:VEVENT
BEGIN:VEVENT
DTSTART;TZID=America/New_York:20280712T183000
DTEND;TZID=America/New_York:20280712T193000
DTSTAMP:20260423T174651
CREATED:20260422T165336Z
LAST-MODIFIED:20260422T165337Z
UID:10000144-1847039400-1847043000@midtowntampa.com
SUMMARY:Yoga in The Commons
DESCRIPTION:Namaste by the Bay comes to Midtown Tampa! Grab your mat and join Alex for an all-levels power flow class on the turf in the beautiful outdoor Midtown Commons. We will focus on building strength and mobility through mindful movement while connecting with our breath (and community!).\nEvery Wednesday\, from 6:30PM to 7:30PM
URL:https://midtowntampa.com/event/yoga-in-the-commons-6-2/2028-07-12/
ATTACH;FMTTYPE=image/jpeg:https://midtowntampa.com/wp-content/uploads/2023/07/mt-yoga-e1726060249960.jpeg
END:VEVENT
BEGIN:VEVENT
DTSTART;TZID=America/New_York:20280713T100000
DTEND;TZID=America/New_York:20280713T110000
DTSTAMP:20260423T174651
CREATED:20260409T001840Z
LAST-MODIFIED:20260409T002314Z
UID:10000404-1847095200-1847098800@midtowntampa.com
SUMMARY:Stroller Sculpt Thursdays
DESCRIPTION:Mommy & Me fitness classes for all levels! \nCalling all moms! Certified pre/postnatal fitness instructor Sam Freed\, is hosting an energizing full-body\, low-impact workout that focuses on strength\, mobility\, and breathwork. This class is safe for all levels and will recur every Thursday.  Strollers and babies are welcome! \nRegister Now
URL:https://midtowntampa.com/event/stroller-sculpt-thursdays-6/2028-07-13/
ATTACH;FMTTYPE=image/jpeg:https://midtowntampa.com/wp-content/uploads/2025/11/Stroller-Sculpt-4-4-24-83-scaled-e1715119243345-1024x666-1.jpg
END:VEVENT
BEGIN:VEVENT
DTSTART;TZID=America/New_York:20280717T093000
DTEND;TZID=America/New_York:20280717T103000
DTSTAMP:20260423T174651
CREATED:20260409T000540Z
LAST-MODIFIED:20260416T180702Z
UID:10000664-1847439000-1847442600@midtowntampa.com
SUMMARY:Fit4Mom Mondays
DESCRIPTION:Mondays are for the moms! Meet us in the middle for a variety of fitness classes from the nation’s leading prenatal and postnatal fitness program. From high-intensity cardio classes to total-body strength training sessions\, each class was created for moms at every stage of motherhood. \nFor more information or to sign up\, visit tampabay.fit4mom.com/midtown.
URL:https://midtowntampa.com/event/fit4mom-mondays-4/2028-07-17/
ATTACH;FMTTYPE=image/jpeg:https://midtowntampa.com/wp-content/uploads/2026/04/fitformoms.jpg
END:VEVENT
BEGIN:VEVENT
DTSTART;TZID=America/New_York:20280719T183000
DTEND;TZID=America/New_York:20280719T193000
DTSTAMP:20260423T174652
CREATED:20260422T165336Z
LAST-MODIFIED:20260422T165337Z
UID:10000145-1847644200-1847647800@midtowntampa.com
SUMMARY:Yoga in The Commons
DESCRIPTION:Namaste by the Bay comes to Midtown Tampa! Grab your mat and join Alex for an all-levels power flow class on the turf in the beautiful outdoor Midtown Commons. We will focus on building strength and mobility through mindful movement while connecting with our breath (and community!).\nEvery Wednesday\, from 6:30PM to 7:30PM
URL:https://midtowntampa.com/event/yoga-in-the-commons-6-2/2028-07-19/
ATTACH;FMTTYPE=image/jpeg:https://midtowntampa.com/wp-content/uploads/2023/07/mt-yoga-e1726060249960.jpeg
END:VEVENT
BEGIN:VEVENT
DTSTART;TZID=America/New_York:20280720T100000
DTEND;TZID=America/New_York:20280720T110000
DTSTAMP:20260423T174652
CREATED:20260409T001840Z
LAST-MODIFIED:20260409T002314Z
UID:10000405-1847700000-1847703600@midtowntampa.com
SUMMARY:Stroller Sculpt Thursdays
DESCRIPTION:Mommy & Me fitness classes for all levels! \nCalling all moms! Certified pre/postnatal fitness instructor Sam Freed\, is hosting an energizing full-body\, low-impact workout that focuses on strength\, mobility\, and breathwork. This class is safe for all levels and will recur every Thursday.  Strollers and babies are welcome! \nRegister Now
URL:https://midtowntampa.com/event/stroller-sculpt-thursdays-6/2028-07-20/
ATTACH;FMTTYPE=image/jpeg:https://midtowntampa.com/wp-content/uploads/2025/11/Stroller-Sculpt-4-4-24-83-scaled-e1715119243345-1024x666-1.jpg
END:VEVENT
BEGIN:VEVENT
DTSTART;TZID=America/New_York:20280722T100000
DTEND;TZID=America/New_York:20280722T150000
DTSTAMP:20260423T174652
CREATED:20260409T000539Z
LAST-MODIFIED:20260416T180922Z
UID:10000835-1847872800-1847890800@midtowntampa.com
SUMMARY:Sunshine Market
DESCRIPTION:Start your day with LIVE music\, cocktails and over 40 local vendors including artists\, jewelry\, and makers from the bay area! Join us at the Sunshine Market\, every 4th Saturday of each month. Local vendors can apply here.
URL:https://midtowntampa.com/event/sunshine-market-2/2028-07-22/
ATTACH;FMTTYPE=image/jpeg:https://midtowntampa.com/wp-content/uploads/2026/04/sunshine.jpg
END:VEVENT
BEGIN:VEVENT
DTSTART;TZID=America/New_York:20280724T093000
DTEND;TZID=America/New_York:20280724T103000
DTSTAMP:20260423T174652
CREATED:20260409T000540Z
LAST-MODIFIED:20260416T180702Z
UID:10000665-1848043800-1848047400@midtowntampa.com
SUMMARY:Fit4Mom Mondays
DESCRIPTION:Mondays are for the moms! Meet us in the middle for a variety of fitness classes from the nation’s leading prenatal and postnatal fitness program. From high-intensity cardio classes to total-body strength training sessions\, each class was created for moms at every stage of motherhood. \nFor more information or to sign up\, visit tampabay.fit4mom.com/midtown.
URL:https://midtowntampa.com/event/fit4mom-mondays-4/2028-07-24/
ATTACH;FMTTYPE=image/jpeg:https://midtowntampa.com/wp-content/uploads/2026/04/fitformoms.jpg
END:VEVENT
BEGIN:VEVENT
DTSTART;TZID=America/New_York:20280726T183000
DTEND;TZID=America/New_York:20280726T193000
DTSTAMP:20260423T174652
CREATED:20260422T165336Z
LAST-MODIFIED:20260422T165337Z
UID:10000146-1848249000-1848252600@midtowntampa.com
SUMMARY:Yoga in The Commons
DESCRIPTION:Namaste by the Bay comes to Midtown Tampa! Grab your mat and join Alex for an all-levels power flow class on the turf in the beautiful outdoor Midtown Commons. We will focus on building strength and mobility through mindful movement while connecting with our breath (and community!).\nEvery Wednesday\, from 6:30PM to 7:30PM
URL:https://midtowntampa.com/event/yoga-in-the-commons-6-2/2028-07-26/
ATTACH;FMTTYPE=image/jpeg:https://midtowntampa.com/wp-content/uploads/2023/07/mt-yoga-e1726060249960.jpeg
END:VEVENT
BEGIN:VEVENT
DTSTART;TZID=America/New_York:20280727T100000
DTEND;TZID=America/New_York:20280727T110000
DTSTAMP:20260423T174652
CREATED:20260409T001840Z
LAST-MODIFIED:20260409T002314Z
UID:10000406-1848304800-1848308400@midtowntampa.com
SUMMARY:Stroller Sculpt Thursdays
DESCRIPTION:Mommy & Me fitness classes for all levels! \nCalling all moms! Certified pre/postnatal fitness instructor Sam Freed\, is hosting an energizing full-body\, low-impact workout that focuses on strength\, mobility\, and breathwork. This class is safe for all levels and will recur every Thursday.  Strollers and babies are welcome! \nRegister Now
URL:https://midtowntampa.com/event/stroller-sculpt-thursdays-6/2028-07-27/
ATTACH;FMTTYPE=image/jpeg:https://midtowntampa.com/wp-content/uploads/2025/11/Stroller-Sculpt-4-4-24-83-scaled-e1715119243345-1024x666-1.jpg
END:VEVENT
BEGIN:VEVENT
DTSTART;TZID=America/New_York:20280731T093000
DTEND;TZID=America/New_York:20280731T103000
DTSTAMP:20260423T174652
CREATED:20260409T000540Z
LAST-MODIFIED:20260416T180702Z
UID:10000666-1848648600-1848652200@midtowntampa.com
SUMMARY:Fit4Mom Mondays
DESCRIPTION:Mondays are for the moms! Meet us in the middle for a variety of fitness classes from the nation’s leading prenatal and postnatal fitness program. From high-intensity cardio classes to total-body strength training sessions\, each class was created for moms at every stage of motherhood. \nFor more information or to sign up\, visit tampabay.fit4mom.com/midtown.
URL:https://midtowntampa.com/event/fit4mom-mondays-4/2028-07-31/
ATTACH;FMTTYPE=image/jpeg:https://midtowntampa.com/wp-content/uploads/2026/04/fitformoms.jpg
END:VEVENT
BEGIN:VEVENT
DTSTART;TZID=America/New_York:20280802T183000
DTEND;TZID=America/New_York:20280802T193000
DTSTAMP:20260423T174652
CREATED:20260422T165336Z
LAST-MODIFIED:20260422T165337Z
UID:10000147-1848853800-1848857400@midtowntampa.com
SUMMARY:Yoga in The Commons
DESCRIPTION:Namaste by the Bay comes to Midtown Tampa! Grab your mat and join Alex for an all-levels power flow class on the turf in the beautiful outdoor Midtown Commons. We will focus on building strength and mobility through mindful movement while connecting with our breath (and community!).\nEvery Wednesday\, from 6:30PM to 7:30PM
URL:https://midtowntampa.com/event/yoga-in-the-commons-6-2/2028-08-02/
ATTACH;FMTTYPE=image/jpeg:https://midtowntampa.com/wp-content/uploads/2023/07/mt-yoga-e1726060249960.jpeg
END:VEVENT
END:VCALENDAR