BEGIN:VCALENDAR
VERSION:2.0
PRODID:-//Midtown Tampa - ECPv6.15.20//NONSGML v1.0//EN
CALSCALE:GREGORIAN
METHOD:PUBLISH
X-WR-CALNAME:Midtown Tampa
X-ORIGINAL-URL:https://midtowntampa.com
X-WR-CALDESC:Events for Midtown Tampa
REFRESH-INTERVAL;VALUE=DURATION:PT1H
X-Robots-Tag:noindex
X-PUBLISHED-TTL:PT1H
BEGIN:VTIMEZONE
TZID:America/New_York
BEGIN:DAYLIGHT
TZOFFSETFROM:-0500
TZOFFSETTO:-0400
TZNAME:EDT
DTSTART:20240310T070000
END:DAYLIGHT
BEGIN:STANDARD
TZOFFSETFROM:-0400
TZOFFSETTO:-0500
TZNAME:EST
DTSTART:20241103T060000
END:STANDARD
BEGIN:DAYLIGHT
TZOFFSETFROM:-0500
TZOFFSETTO:-0400
TZNAME:EDT
DTSTART:20250309T070000
END:DAYLIGHT
BEGIN:STANDARD
TZOFFSETFROM:-0400
TZOFFSETTO:-0500
TZNAME:EST
DTSTART:20251102T060000
END:STANDARD
BEGIN:DAYLIGHT
TZOFFSETFROM:-0500
TZOFFSETTO:-0400
TZNAME:EDT
DTSTART:20260308T070000
END:DAYLIGHT
BEGIN:STANDARD
TZOFFSETFROM:-0400
TZOFFSETTO:-0500
TZNAME:EST
DTSTART:20261101T060000
END:STANDARD
BEGIN:DAYLIGHT
TZOFFSETFROM:-0500
TZOFFSETTO:-0400
TZNAME:EDT
DTSTART:20270314T070000
END:DAYLIGHT
BEGIN:STANDARD
TZOFFSETFROM:-0400
TZOFFSETTO:-0500
TZNAME:EST
DTSTART:20271107T060000
END:STANDARD
END:VTIMEZONE
BEGIN:VEVENT
DTSTART;TZID=America/New_York:20260407T173000
DTEND;TZID=America/New_York:20260407T193000
DTSTAMP:20260419T165432
CREATED:20260409T001840Z
LAST-MODIFIED:20260409T001840Z
UID:10000005-1775583000-1775590200@midtowntampa.com
SUMMARY:Yappy Hour at Sal Y Mar Rooftop Bar
DESCRIPTION:Yappy Hour at Sal Y Mar Rooftop Bar (Tampa Bay Humane Society Adoption Event)\nWednesday\, April 7 from 5:30 p.m. to 7:30 p.m.\n Join us at Sal Y Mar on Tuesday\, April 7 from 5:30 p.m. to 7:30 p.m. for a special Yappy Hour in celebration of National Pet Day on April 11. Bring your furry friends to the 7th floor for an evening of rooftop views\, signature Yappy Hour drinks\, and a pet-friendly gathering supporting the Humane Society of Tampa Bay. Guests can also meet adoptable pups during the on-site adoption event\, and donations are encouraged—bring a donation and receive a drink voucher. All pets must remain leashed. More information can be found here.
URL:https://midtowntampa.com/event/yappy-hour-at-sal-y-mar-rooftop-bar/
END:VEVENT
BEGIN:VEVENT
DTSTART;TZID=America/New_York:20251220T100000
DTEND;TZID=America/New_York:20251220T150000
DTSTAMP:20260419T165432
CREATED:20251111T164848Z
LAST-MODIFIED:20260409T001840Z
UID:10000001-1766224800-1766242800@midtowntampa.com
SUMMARY:2nd Annual Very Merry Midtown Market
DESCRIPTION:Midtown will be hosting its 2nd Annual Merry Midtown Market in partnership with Tampa Bay Markets to offer unique special programming including complimentary gift wrapping\, festive holiday beverages and live holiday music while shoppers can pick from a curated selection of locally sourced goods suitable for last-minute holiday gifting.
URL:https://midtowntampa.com/event/2nd-annual-very-merry-midtown-market/
LOCATION:Midtown Tampa\, 3659 Midtown Dr\, Tampa\, 33607\, United States
CATEGORIES:Market
ATTACH;FMTTYPE=image/jpeg:https://midtowntampa.com/wp-content/uploads/2025/11/christmas-decorations-on-trentino-alto-adige-ital-2025-03-18-15-27-58-utc.jpg
END:VEVENT
BEGIN:VEVENT
DTSTART;TZID=America/New_York:20251214T110000
DTEND;TZID=America/New_York:20251214T160000
DTSTAMP:20260419T165432
CREATED:20251112T133824Z
LAST-MODIFIED:20260409T001840Z
UID:10000002-1765710000-1765728000@midtowntampa.com
SUMMARY:4th Annual Toys For Tots Rally
DESCRIPTION:Midtown will be hosting its 4th annual Toys for Tots rally in partnership with Dimmit Automotive Group to bring over 100 exotic\, luxury cars filled with thousands of children’s toys on display in the Midtown Commons. In addition to toy donations and the supercars on display\, there will also be live holiday music\, activity stations for kids and a photo booth with Santa Claus.
URL:https://midtowntampa.com/event/4th-annual-toys-for-tots-rally/
ATTACH;FMTTYPE=image/jpeg:https://midtowntampa.com/wp-content/uploads/2025/11/top-view-of-colorful-gift-boxes-candy-canes-and-c-2024-11-07-15-09-50-utc.jpg
END:VEVENT
END:VCALENDAR